Name | Last modified | Size | Description | |
---|---|---|---|---|
Parent Directory | - | |||
buildbin-out.txt | 28-Jul-2024 00:39 | 2.3M | ||
buildbin-summary.dcf | 28-Jul-2024 00:39 | 516 | ||
buildsrc-out.txt | 28-Jul-2024 00:39 | 1.1K | ||
buildsrc-summary.dcf | 28-Jul-2024 00:39 | 453 | ||
checksrc-out.txt | 28-Jul-2024 00:39 | 5.9K | ||
checksrc-summary.dcf | 28-Jul-2024 00:39 | 453 | ||
install-out.txt | 28-Jul-2024 00:39 | 2.3M | ||
install-summary.dcf | 28-Jul-2024 00:39 | 269 | ||