Name | Last modified | Size | Description | |
---|---|---|---|---|
Parent Directory | - | |||
buildsrc-out.txt | 28-Jul-2024 00:38 | 908 | ||
buildsrc-summary.dcf | 28-Jul-2024 00:38 | 424 | ||
checksrc-out.txt | 28-Jul-2024 00:38 | 4.6K | ||
checksrc-summary.dcf | 28-Jul-2024 00:38 | 419 | ||
install-out.txt | 28-Jul-2024 00:38 | 18K | ||
install-summary.dcf | 28-Jul-2024 00:38 | 260 | ||