Name | Last modified | Size | Description | |
---|---|---|---|---|
Parent Directory | - | |||
install-summary.dcf | 12-Jun-2024 04:41 | 270 | ||
buildsrc-summary.dcf | 12-Jun-2024 04:41 | 428 | ||
checksrc-summary.dcf | 12-Jun-2024 04:41 | 449 | ||
buildbin-summary.dcf | 12-Jun-2024 04:41 | 531 | ||
buildsrc-out.txt | 12-Jun-2024 04:41 | 894 | ||
checksrc-out.txt | 12-Jun-2024 04:41 | 4.7K | ||
install-out.txt | 12-Jun-2024 04:41 | 22K | ||
buildbin-out.txt | 12-Jun-2024 04:41 | 24K | ||