Name | Last modified | Size | Description | |
---|---|---|---|---|
Parent Directory | - | |||
buildbin-out.txt | 05-Mar-2024 01:39 | 24K | ||
buildbin-summary.dcf | 05-Mar-2024 01:39 | 531 | ||
buildsrc-out.txt | 05-Mar-2024 01:39 | 894 | ||
buildsrc-summary.dcf | 05-Mar-2024 01:39 | 428 | ||
checksrc-out.txt | 05-Mar-2024 01:39 | 4.2K | ||
checksrc-summary.dcf | 05-Mar-2024 01:39 | 449 | ||
install-out.txt | 05-Mar-2024 01:39 | 22K | ||
install-summary.dcf | 05-Mar-2024 01:39 | 270 | ||