Name | Last modified | Size | Description | |
---|---|---|---|---|
Parent Directory | - | |||
buildbin-summary.dcf | 28-Jul-2024 00:40 | 531 | ||
buildbin-out.txt | 28-Jul-2024 00:40 | 24K | ||
checksrc-summary.dcf | 28-Jul-2024 00:40 | 449 | ||
checksrc-out.txt | 28-Jul-2024 00:40 | 4.7K | ||
buildsrc-summary.dcf | 28-Jul-2024 00:40 | 428 | ||
buildsrc-out.txt | 28-Jul-2024 00:40 | 894 | ||
install-summary.dcf | 28-Jul-2024 00:40 | 270 | ||
install-out.txt | 28-Jul-2024 00:40 | 22K | ||