Back to Multiple platform build/check report for BioC 3.15
AB[C]DEFGHIJKLMNOPQRSTUVWXYZ

This page was generated on 2022-01-17 11:07:06 -0500 (Mon, 17 Jan 2022).

HostnameOSArch (*)R versionInstalled pkgs
nebbiolo1Linux (Ubuntu 20.04.4 LTS)x86_64R Under development (unstable) (2022-01-05 r81451) -- "Unsuffered Consequences" 4161
riesling1Windows Server 2019 Standardx64R Under development (unstable) (2021-11-21 r81221) -- "Unsuffered Consequences" 4056
palomino3Windows Server 2022 Datacenterx64R Under development (unstable) (2021-12-21 r81400 ucrt) -- "Unsuffered Consequences" 3998
merida1macOS 10.14.6 Mojavex86_64R Under development (unstable) (2022-01-05 r81451) -- "Unsuffered Consequences" 4115
Click on any hostname to see more info about the system (e.g. compilers)      (*) as reported by 'uname -p', except on Windows and Mac OS X

CHECK results for customProDB on riesling1


To the developers/maintainers of the customProDB package:
- Please allow up to 24 hours (and sometimes 48 hours) for your latest push to git@git.bioconductor.org:packages/customProDB.git to
reflect on this report. See How and When does the builder pull? When will my changes propagate? here for more information.
- Make sure to use the following settings in order to reproduce any error or warning you see on this page.

raw results

Package 435/2074HostnameOS / ArchINSTALLBUILDCHECKBUILD BIN
customProDB 1.35.1  (landing page)
Xiaojing Wang
Snapshot Date: 2022-01-16 13:55:18 -0500 (Sun, 16 Jan 2022)
git_url: https://git.bioconductor.org/packages/customProDB
git_branch: master
git_last_commit: 69b8805
git_last_commit_date: 2021-12-02 17:41:54 -0500 (Thu, 02 Dec 2021)
nebbiolo1Linux (Ubuntu 20.04.4 LTS) / x86_64  OK    OK    OK  UNNEEDED, same version is already published
riesling1Windows Server 2019 Standard / x64  OK    OK    OK    OK  
palomino3Windows Server 2022 Datacenter / x64  OK    OK    OK    OK  NO, package depends on 'IRanges' which is not available
merida1macOS 10.14.6 Mojave / x86_64  OK    OK    OK    OK  UNNEEDED, same version is already published

Summary

Package: customProDB
Version: 1.35.1
Command: D:\biocbuild\bbs-3.15-bioc\R\bin\R.exe CMD check --no-multiarch --install=check:customProDB.install-out.txt --library=D:\biocbuild\bbs-3.15-bioc\R\library --no-vignettes --timings customProDB_1.35.1.tar.gz
StartedAt: 2022-01-16 18:43:19 -0500 (Sun, 16 Jan 2022)
EndedAt: 2022-01-16 18:47:23 -0500 (Sun, 16 Jan 2022)
EllapsedTime: 243.8 seconds
RetCode: 0
Status:   OK  
CheckDir: customProDB.Rcheck
Warnings: 0

Command output

##############################################################################
##############################################################################
###
### Running command:
###
###   D:\biocbuild\bbs-3.15-bioc\R\bin\R.exe CMD check --no-multiarch --install=check:customProDB.install-out.txt --library=D:\biocbuild\bbs-3.15-bioc\R\library --no-vignettes --timings customProDB_1.35.1.tar.gz
###
##############################################################################
##############################################################################


* using log directory 'D:/biocbuild/bbs-3.15-bioc/meat/customProDB.Rcheck'
* using R Under development (unstable) (2021-11-21 r81221)
* using platform: x86_64-w64-mingw32 (64-bit)
* using session charset: ISO8859-1
* using option '--no-vignettes'
* checking for file 'customProDB/DESCRIPTION' ... OK
* checking extension type ... Package
* this is package 'customProDB' version '1.35.1'
* checking package namespace information ... OK
* checking package dependencies ... OK
* checking if this is a source package ... OK
* checking if there is a namespace ... OK
* checking for hidden files and directories ... OK
* checking for portable file names ... OK
* checking whether package 'customProDB' can be installed ... OK
* checking installed package size ... OK
* checking package directory ... OK
* checking 'build' directory ... OK
* checking DESCRIPTION meta-information ... OK
* checking top-level files ... OK
* checking for left-over files ... OK
* checking index information ... OK
* checking package subdirectories ... OK
* checking R files for non-ASCII characters ... OK
* checking R files for syntax errors ... OK
* checking whether the package can be loaded ... OK
* checking whether the package can be loaded with stated dependencies ... OK
* checking whether the package can be unloaded cleanly ... OK
* checking whether the namespace can be loaded with stated dependencies ... OK
* checking whether the namespace can be unloaded cleanly ... OK
* checking dependencies in R code ... NOTE
Unexported objects imported by ':::' calls:
  'biomaRt:::martBM' 'biomaRt:::martDataset' 'biomaRt:::martHost'
  See the note in ?`:::` about the use of this operator.
* checking S3 generic/method consistency ... OK
* checking replacement functions ... OK
* checking foreign function calls ... OK
* checking R code for possible problems ... NOTE
Bed2Range: no visible binding for global variable 'V5'
OutputNovelJun: no visible binding for global variable 'jun_type'
OutputVarproseq: no visible binding for global variable 'genename'
OutputVarproseq: no visible binding for global variable 'txname'
OutputVarproseq: no visible binding for global variable 'proname'
OutputVarproseq: no visible binding for global variable 'aaref'
OutputVarproseq: no visible binding for global variable 'aapos'
OutputVarproseq: no visible binding for global variable 'aavar'
OutputVarproseq: no visible binding for global variable 'rsid'
OutputVarproseq_single: no visible binding for global variable
  'genename'
OutputVarproseq_single: no visible binding for global variable 'txname'
OutputVarproseq_single: no visible binding for global variable
  'proname'
OutputVarproseq_single: no visible binding for global variable 'aaref'
OutputVarproseq_single: no visible binding for global variable 'aapos'
OutputVarproseq_single: no visible binding for global variable 'aavar'
OutputVarproseq_single: no visible binding for global variable 'rsid'
Outputaberrant: no visible binding for global variable 'pro_name'
Positionincoding: no visible binding for global variable 'cds_start'
Positionincoding: no visible binding for global variable 'cds_end'
PrepareAnnotationEnsembl: no visible binding for global variable
  'ensembl_gene_id'
PrepareAnnotationEnsembl: no visible binding for global variable
  'pro_name'
PrepareAnnotationEnsembl: no visible binding for global variable
  'chrom'
PrepareAnnotationEnsembl: no visible binding for global variable 'name'
PrepareAnnotationEnsembl: no visible binding for global variable
  'alleleCount'
PrepareAnnotationEnsembl: no visible binding for global variable
  'alleles'
PrepareAnnotationRefseq: no visible binding for global variable 'name'
PrepareAnnotationRefseq: no visible binding for global variable
  'mrnaAcc'
PrepareAnnotationRefseq: no visible binding for global variable
  'protAcc'
PrepareAnnotationRefseq: no visible binding for global variable
  'transcript'
PrepareAnnotationRefseq: no visible binding for global variable 'chrom'
PrepareAnnotationRefseq: no visible binding for global variable
  'alleleCount'
PrepareAnnotationRefseq: no visible binding for global variable
  'alleles'
PrepareAnnotationRefseq: no visible binding for global variable
  'COSMIC'
Varlocation: no visible binding for global variable 'pro_name'
Undefined global functions or variables:
  COSMIC V5 aapos aaref aavar alleleCount alleles cds_end cds_start
  chrom ensembl_gene_id genename jun_type mrnaAcc name pro_name proname
  protAcc rsid transcript txname
* checking Rd files ... OK
* checking Rd metadata ... OK
* checking Rd cross-references ... OK
* checking for missing documentation entries ... OK
* checking for code/documentation mismatches ... OK
* checking Rd \usage sections ... OK
* checking Rd contents ... OK
* checking for unstated dependencies in examples ... OK
* checking files in 'vignettes' ... OK
* checking examples ... OK
Examples with CPU (user + system) or elapsed time > 5s
                         user system elapsed
PrepareAnnotationEnsembl 7.33   0.29   21.34
* checking for unstated dependencies in vignettes ... OK
* checking package vignettes in 'inst/doc' ... OK
* checking running R code from vignettes ... SKIPPED
* checking re-building of vignette outputs ... SKIPPED
* checking PDF version of manual ... OK
* DONE

Status: 2 NOTEs
See
  'D:/biocbuild/bbs-3.15-bioc/meat/customProDB.Rcheck/00check.log'
for details.



Installation output

customProDB.Rcheck/00install.out

##############################################################################
##############################################################################
###
### Running command:
###
###   D:\biocbuild\bbs-3.15-bioc\R\bin\R.exe CMD INSTALL customProDB
###
##############################################################################
##############################################################################


* installing to library 'D:/biocbuild/bbs-3.15-bioc/R/library'
* installing *source* package 'customProDB' ...
** using staged installation
** R
** inst
** byte-compile and prepare package for lazy loading
** help
*** installing help indices
  converting help for package 'customProDB'
    finding HTML links ... done
    Bed2Range                               html  
    InputVcf                                html  
    JunctionType                            html  
    Multiple_VCF                            html  
    OutputNovelJun                          html  
    OutputVarprocodingseq                   html  
    OutputVarproseq                         html  
    OutputVarproseq_single                  html  
    Outputaberrant                          html  
    Outputproseq                            html  
    OutputsharedPro                         html  
    Positionincoding                        html  
    PrepareAnnotationEnsembl                html  
    PrepareAnnotationRefseq                 html  
    SharedJunc                              html  
    Varlocation                             html  
    aaVariation                             html  
    calculateRPKM                           html  
    easyRun                                 html  
    easyRun_mul                             html  
** building package indices
** installing vignettes
** testing if installed package can be loaded from temporary location
** testing if installed package can be loaded from final location
** testing if installed package keeps a record of temporary installation path
* DONE (customProDB)
Making 'packages.html' ... done

Tests output


Example timings

customProDB.Rcheck/customProDB-Ex.timings

nameusersystemelapsed
Bed2Range0.090.000.10
InputVcf0.880.070.95
JunctionType1.280.051.33
Multiple_VCF0.520.060.58
OutputNovelJun0.940.221.16
OutputVarprocodingseq0.460.020.48
OutputVarproseq0.350.040.39
OutputVarproseq_single0.340.040.38
Outputaberrant0.250.010.28
Outputproseq0.410.020.42
OutputsharedPro1.150.031.19
Positionincoding0.250.000.25
PrepareAnnotationEnsembl 7.33 0.2921.34
PrepareAnnotationRefseq000
SharedJunc0.380.000.38
Varlocation000
aaVariation0.360.000.36
calculateRPKM0.390.000.39
easyRun0.830.040.86
easyRun_mul1.950.062.01