Back to Multiple platform build/check report for BioC 3.15
AB[C]DEFGHIJKLMNOPQRSTUVWXYZ

This page was generated on 2022-01-19 11:07:29 -0500 (Wed, 19 Jan 2022).

HostnameOSArch (*)R versionInstalled pkgs
nebbiolo1Linux (Ubuntu 20.04.4 LTS)x86_64R Under development (unstable) (2022-01-05 r81451) -- "Unsuffered Consequences" 4161
riesling1Windows Server 2019 Standardx64R Under development (unstable) (2021-11-21 r81221) -- "Unsuffered Consequences" 4056
palomino3Windows Server 2022 Datacenterx64R Under development (unstable) (2021-12-21 r81400 ucrt) -- "Unsuffered Consequences" 3998
merida1macOS 10.14.6 Mojavex86_64R Under development (unstable) (2022-01-05 r81451) -- "Unsuffered Consequences" 4115
Click on any hostname to see more info about the system (e.g. compilers)      (*) as reported by 'uname -p', except on Windows and Mac OS X

BUILD results for customProDB on riesling1


To the developers/maintainers of the customProDB package:
- Please allow up to 24 hours (and sometimes 48 hours) for your latest push to git@git.bioconductor.org:packages/customProDB.git to
reflect on this report. See How and When does the builder pull? When will my changes propagate? here for more information.
- Make sure to use the following settings in order to reproduce any error or warning you see on this page.

raw results

Package 435/2074HostnameOS / ArchINSTALLBUILDCHECKBUILD BIN
customProDB 1.35.1  (landing page)
Xiaojing Wang
Snapshot Date: 2022-01-18 13:55:18 -0500 (Tue, 18 Jan 2022)
git_url: https://git.bioconductor.org/packages/customProDB
git_branch: master
git_last_commit: 69b8805
git_last_commit_date: 2021-12-02 17:41:54 -0500 (Thu, 02 Dec 2021)
nebbiolo1Linux (Ubuntu 20.04.4 LTS) / x86_64  OK    OK    OK  UNNEEDED, same version is already published
riesling1Windows Server 2019 Standard / x64  OK    OK    OK    OK  
palomino3Windows Server 2022 Datacenter / x64  OK    OK    OK    OK  NO, package depends on 'IRanges' which is not available
merida1macOS 10.14.6 Mojave / x86_64  OK    OK    OK    OK  UNNEEDED, same version is already published

Summary

Package: customProDB
Version: 1.35.1
Command: chmod a+r customProDB -R && D:\biocbuild\bbs-3.15-bioc\R\bin\R.exe CMD build --keep-empty-dirs --no-resave-data customProDB
StartedAt: 2022-01-18 16:30:05 -0500 (Tue, 18 Jan 2022)
EndedAt: 2022-01-18 16:32:16 -0500 (Tue, 18 Jan 2022)
EllapsedTime: 130.4 seconds
RetCode: 0
Status:   OK  
PackageFile: customProDB_1.35.1.tar.gz
PackageFileSize: 588.3 KiB

Command output

##############################################################################
##############################################################################
###
### Running command:
###
###   chmod a+r customProDB -R && D:\biocbuild\bbs-3.15-bioc\R\bin\R.exe CMD build --keep-empty-dirs --no-resave-data customProDB
###
##############################################################################
##############################################################################


* checking for file 'customProDB/DESCRIPTION' ... OK
* preparing 'customProDB':
* checking DESCRIPTION meta-information ... OK
* installing the package to build vignettes
* creating vignettes ... OK
* checking for LF line-endings in source and make files and shell scripts
* checking for empty or unneeded directories
  NB: this package now depends on R (>= 3.5.0)
  WARNING: Added dependency on R >= 3.5.0 because serialized objects in
  serialize/load version 3 cannot be read in older versions of R.
  File(s) containing such objects:
    'customProDB/inst/extdata/refseq/cosmic.RData'
    'customProDB/inst/extdata/refseq/dbsnpinCoding.RData'
* building 'customProDB_1.35.1.tar.gz'