Index of /checkResults/devel/bioc-LATEST/customProDB/raw-results/nebbiolo2

[ICO]NameLast modifiedSizeDescription

[DIR]Parent Directory  -  
[TXT]buildsrc-out.txt02-Jul-2022 00:04 1.1K 
[   ]buildsrc-summary.dcf02-Jul-2022 00:04 430  
[TXT]checksrc-out.txt02-Jul-2022 00:04 6.0K 
[   ]checksrc-summary.dcf02-Jul-2022 00:04 440  
[TXT]install-out.txt02-Jul-2022 00:04 959  
[   ]install-summary.dcf02-Jul-2022 00:04 267