Index of /checkResults/devel/bioc-LATEST/customProDB/raw-results/merida1
Name
Last modified
Size
Description
Parent Directory
-
buildsrc-out.txt
05-Mar-2024 01:39
2.0K
buildsrc-summary.dcf
05-Mar-2024 01:39
352
install-out.txt
05-Mar-2024 01:39
1.0K
install-summary.dcf
05-Mar-2024 01:39
277