Index of /checkResults/devel/bioc-LATEST/customProDB/raw-results/lconway

[ICO]NameLast modifiedSizeDescription

[DIR]Parent Directory  -  
[TXT]buildbin-out.txt02-Jul-2022 00:07 1.2K 
[   ]buildbin-summary.dcf02-Jul-2022 00:07 554  
[TXT]buildsrc-out.txt02-Jul-2022 00:07 1.1K 
[   ]buildsrc-summary.dcf02-Jul-2022 00:07 440  
[TXT]checksrc-out.txt02-Jul-2022 00:07 6.1K 
[   ]checksrc-summary.dcf02-Jul-2022 00:07 460  
[TXT]install-out.txt02-Jul-2022 00:07 1.0K 
[   ]install-summary.dcf02-Jul-2022 00:07 277