Name | Last modified | Size | Description | |
---|---|---|---|---|
Parent Directory | - | |||
buildbin-out.txt | 28-Jun-2024 00:39 | 9.6K | ||
buildbin-summary.dcf | 28-Jun-2024 00:39 | 554 | ||
buildsrc-out.txt | 28-Jun-2024 00:39 | 1.1K | ||
buildsrc-summary.dcf | 28-Jun-2024 00:39 | 439 | ||
checksrc-out.txt | 28-Jun-2024 00:39 | 9.2K | ||
checksrc-summary.dcf | 28-Jun-2024 00:39 | 466 | ||
install-out.txt | 28-Jun-2024 00:39 | 9.4K | ||
install-summary.dcf | 28-Jun-2024 00:39 | 277 | ||