Name | Last modified | Size | Description | |
---|---|---|---|---|
Parent Directory | - | |||
install-summary.dcf | 17-Jul-2024 00:40 | 280 | ||
buildsrc-summary.dcf | 17-Jul-2024 00:40 | 471 | ||
checksrc-summary.dcf | 17-Jul-2024 00:40 | 477 | ||
buildbin-summary.dcf | 17-Jul-2024 00:40 | 538 | ||
buildsrc-out.txt | 17-Jul-2024 00:40 | 920 | ||
install-out.txt | 17-Jul-2024 00:40 | 1.0K | ||
buildbin-out.txt | 17-Jul-2024 00:40 | 1.1K | ||
checksrc-out.txt | 17-Jul-2024 00:40 | 67K | ||