Name | Last modified | Size | Description | |
---|---|---|---|---|
Parent Directory | - | |||
buildsrc-out.txt | 30-Apr-2024 00:40 | 892 | ||
buildsrc-summary.dcf | 30-Apr-2024 00:40 | 438 | ||
checksrc-out.txt | 30-Apr-2024 00:40 | 65K | ||
checksrc-summary.dcf | 30-Apr-2024 00:40 | 469 | ||
install-out.txt | 30-Apr-2024 00:40 | 1.0K | ||
install-summary.dcf | 30-Apr-2024 00:40 | 276 | ||