Name | Last modified | Size | Description | |
---|---|---|---|---|
Parent Directory | - | |||
install-summary.dcf | 12-Jun-2024 04:42 | 275 | ||
buildsrc-summary.dcf | 12-Jun-2024 04:42 | 437 | ||
checksrc-summary.dcf | 12-Jun-2024 04:42 | 462 | ||
buildbin-summary.dcf | 12-Jun-2024 04:42 | 548 | ||
buildsrc-out.txt | 12-Jun-2024 04:42 | 891 | ||
install-out.txt | 12-Jun-2024 04:42 | 1.0K | ||
buildbin-out.txt | 12-Jun-2024 04:42 | 1.2K | ||
checksrc-out.txt | 12-Jun-2024 04:42 | 65K | ||