Back to Multiple platform build/check report for BioC 3.13 |
|
This page was generated on 2021-01-17 12:31:34 -0500 (Sun, 17 Jan 2021).
TO THE DEVELOPERS/MAINTAINERS OF THE cummeRbund PACKAGE: Please make sure to use the following settings in order to reproduce any error or warning you see on this page. |
Package 407/1931 | Hostname | OS / Arch | INSTALL | BUILD | CHECK | BUILD BIN | ||||||
cummeRbund 2.33.0 Loyal A. Goff
| malbec2 | Linux (Ubuntu 20.04.1 LTS) / x86_64 | [ OK ] | OK | WARNINGS | ![]() | ||||||
tokay2 | Windows Server 2012 R2 Standard / x64 | OK | OK | WARNINGS | OK | ![]() | ||||||
riesling1 | Windows Server 2019 Standard / x64 | OK | OK | WARNINGS | OK | |||||||
machv2 | macOS 10.14.6 Mojave / x86_64 | OK | OK | WARNINGS | OK | ![]() |
Package: cummeRbund |
Version: 2.33.0 |
Command: /home/biocbuild/bbs-3.13-bioc/R/bin/R CMD INSTALL cummeRbund |
StartedAt: 2021-01-16 17:18:28 -0500 (Sat, 16 Jan 2021) |
EndedAt: 2021-01-16 17:19:29 -0500 (Sat, 16 Jan 2021) |
EllapsedTime: 61.5 seconds |
RetCode: 0 |
Status: OK |
############################################################################## ############################################################################## ### ### Running command: ### ### /home/biocbuild/bbs-3.13-bioc/R/bin/R CMD INSTALL cummeRbund ### ############################################################################## ############################################################################## * installing to library ‘/home/biocbuild/bbs-3.13-bioc/R/library’ * installing *source* package ‘cummeRbund’ ... ** using staged installation ** R ** data ** inst ** byte-compile and prepare package for lazy loading ** help *** installing help indices ** building package indices ** installing vignettes ** testing if installed package can be loaded from temporary location ** testing if installed package can be loaded from final location ** testing if installed package keeps a record of temporary installation path * DONE (cummeRbund)