Back to Multiple platform build/check report for BioC 3.13
AB[C]DEFGHIJKLMNOPQRSTUVWXYZ

BUILD report for cummeRbund on malbec2

This page was generated on 2021-01-17 12:31:34 -0500 (Sun, 17 Jan 2021).

TO THE DEVELOPERS/MAINTAINERS OF THE cummeRbund PACKAGE: Please make sure to use the following settings in order to reproduce any error or warning you see on this page.
Package 407/1931HostnameOS / ArchINSTALLBUILDCHECKBUILD BIN
cummeRbund 2.33.0
Loyal A. Goff
Snapshot Date: 2021-01-16 14:40:27 -0500 (Sat, 16 Jan 2021)
URL: https://git.bioconductor.org/packages/cummeRbund
Branch: master
Last Commit: 7d5cb76
Last Changed Date: 2020-10-27 10:43:08 -0500 (Tue, 27 Oct 2020)
malbec2 Linux (Ubuntu 20.04.1 LTS) / x86_64  OK [ OK ] WARNINGS UNNEEDED, same version exists in internal repository
tokay2 Windows Server 2012 R2 Standard / x64  OK  OK  WARNINGS  OK UNNEEDED, same version exists in internal repository
riesling1 Windows Server 2019 Standard / x64  OK  OK  WARNINGS  OK 
machv2 macOS 10.14.6 Mojave / x86_64  OK  OK  WARNINGS  OK UNNEEDED, same version exists in internal repository

Summary

Package: cummeRbund
Version: 2.33.0
Command: /home/biocbuild/bbs-3.13-bioc/R/bin/R CMD build --keep-empty-dirs --no-resave-data cummeRbund
StartedAt: 2021-01-16 18:35:38 -0500 (Sat, 16 Jan 2021)
EndedAt: 2021-01-16 18:37:34 -0500 (Sat, 16 Jan 2021)
EllapsedTime: 116.0 seconds
RetCode: 0
Status:  OK 
PackageFile: cummeRbund_2.33.0.tar.gz
PackageFileSize: 2.405 MiB

Command output

##############################################################################
##############################################################################
###
### Running command:
###
###   /home/biocbuild/bbs-3.13-bioc/R/bin/R CMD build --keep-empty-dirs --no-resave-data cummeRbund
###
##############################################################################
##############################################################################


* checking for file ‘cummeRbund/DESCRIPTION’ ... OK
* preparing ‘cummeRbund’:
* checking DESCRIPTION meta-information ... OK
* installing the package to build vignettes
* creating vignettes ... OK
* checking for LF line-endings in source and make files and shell scripts
* checking for empty or unneeded directories
* looking to see if a ‘data/datalist’ file should be added
* building ‘cummeRbund_2.33.0.tar.gz’