Back to Multiple platform build/check report for BioC 3.13 |
|
This page was generated on 2021-01-17 12:38:38 -0500 (Sun, 17 Jan 2021).
TO THE DEVELOPERS/MAINTAINERS OF THE cummeRbund PACKAGE: Please make sure to use the following settings in order to reproduce any error or warning you see on this page. |
Package 407/1931 | Hostname | OS / Arch | INSTALL | BUILD | CHECK | BUILD BIN | ||||||
cummeRbund 2.33.0 Loyal A. Goff
| malbec2 | Linux (Ubuntu 20.04.1 LTS) / x86_64 | OK | OK | WARNINGS | ![]() | ||||||
tokay2 | Windows Server 2012 R2 Standard / x64 | OK | OK | WARNINGS | OK | ![]() | ||||||
riesling1 | Windows Server 2019 Standard / x64 | OK | OK | WARNINGS | OK | |||||||
machv2 | macOS 10.14.6 Mojave / x86_64 | OK | [ OK ] | WARNINGS | OK | ![]() |
Package: cummeRbund |
Version: 2.33.0 |
Command: /Library/Frameworks/R.framework/Versions/Current/Resources/bin/R CMD build --keep-empty-dirs --no-resave-data cummeRbund |
StartedAt: 2021-01-16 18:23:27 -0500 (Sat, 16 Jan 2021) |
EndedAt: 2021-01-16 18:25:41 -0500 (Sat, 16 Jan 2021) |
EllapsedTime: 134.0 seconds |
RetCode: 0 |
Status: OK |
PackageFile: cummeRbund_2.33.0.tar.gz |
PackageFileSize: 2.423 MiB |
############################################################################## ############################################################################## ### ### Running command: ### ### /Library/Frameworks/R.framework/Versions/Current/Resources/bin/R CMD build --keep-empty-dirs --no-resave-data cummeRbund ### ############################################################################## ############################################################################## * checking for file ‘cummeRbund/DESCRIPTION’ ... OK * preparing ‘cummeRbund’: * checking DESCRIPTION meta-information ... OK * installing the package to build vignettes * creating vignettes ... OK * checking for LF line-endings in source and make files and shell scripts * checking for empty or unneeded directories * looking to see if a ‘data/datalist’ file should be added * building ‘cummeRbund_2.33.0.tar.gz’