Back to Multiple platform build/check report for BioC 3.13
AB[C]DEFGHIJKLMNOPQRSTUVWXYZ

BUILD BIN report for cummeRbund on machv2

This page was generated on 2021-01-17 12:38:38 -0500 (Sun, 17 Jan 2021).

TO THE DEVELOPERS/MAINTAINERS OF THE cummeRbund PACKAGE: Please make sure to use the following settings in order to reproduce any error or warning you see on this page.
Package 407/1931HostnameOS / ArchINSTALLBUILDCHECKBUILD BIN
cummeRbund 2.33.0
Loyal A. Goff
Snapshot Date: 2021-01-16 14:40:27 -0500 (Sat, 16 Jan 2021)
URL: https://git.bioconductor.org/packages/cummeRbund
Branch: master
Last Commit: 7d5cb76
Last Changed Date: 2020-10-27 10:43:08 -0500 (Tue, 27 Oct 2020)
malbec2 Linux (Ubuntu 20.04.1 LTS) / x86_64  OK  OK  WARNINGS UNNEEDED, same version exists in internal repository
tokay2 Windows Server 2012 R2 Standard / x64  OK  OK  WARNINGS  OK UNNEEDED, same version exists in internal repository
riesling1 Windows Server 2019 Standard / x64  OK  OK  WARNINGS  OK 
machv2 macOS 10.14.6 Mojave / x86_64  OK  OK  WARNINGS [ OK ]UNNEEDED, same version exists in internal repository

Summary

Package: cummeRbund
Version: 2.33.0
Command: rm -rf cummeRbund.buildbin-libdir && mkdir cummeRbund.buildbin-libdir && /Users/biocbuild/BBS/utils/build-universal.sh cummeRbund_2.33.0.tar.gz /Library/Frameworks/R.framework/Versions/Current/Resources/bin/R cummeRbund.buildbin-libdir
StartedAt: 2021-01-17 05:57:27 -0500 (Sun, 17 Jan 2021)
EndedAt: 2021-01-17 05:58:36 -0500 (Sun, 17 Jan 2021)
EllapsedTime: 69.6 seconds
RetCode: 0
Status:  OK 
PackageFile: cummeRbund_2.33.0.tgz
PackageFileSize: 3.425 MiB

Command output

##############################################################################
##############################################################################
###
### Running command:
###
###   rm -rf cummeRbund.buildbin-libdir && mkdir cummeRbund.buildbin-libdir && /Users/biocbuild/BBS/utils/build-universal.sh cummeRbund_2.33.0.tar.gz /Library/Frameworks/R.framework/Versions/Current/Resources/bin/R cummeRbund.buildbin-libdir
###
##############################################################################
##############################################################################


>>>>>>> 
>>>>>>> INSTALLATION WITH 'R CMD INSTALL --preclean --no-multiarch --library=cummeRbund.buildbin-libdir cummeRbund_2.33.0.tar.gz'
>>>>>>> 

* installing *source* package ‘cummeRbund’ ...
** using staged installation
** R
** data
** inst
** byte-compile and prepare package for lazy loading
** help
*** installing help indices
** building package indices
** installing vignettes
** testing if installed package can be loaded from temporary location
** testing if installed package can be loaded from final location
** testing if installed package keeps a record of temporary installation path
* DONE (cummeRbund)