Back to Multiple platform build/check report for BioC 3.16
AB[C]DEFGHIJKLMNOPQRSTUVWXYZ

This page was generated on 2022-05-18 11:04:13 -0400 (Wed, 18 May 2022).

HostnameOSArch (*)R versionInstalled pkgs
nebbiolo2Linux (Ubuntu 20.04.4 LTS)x86_644.2.0 RC (2022-04-21 r82226) -- "Vigorous Calisthenics" 4357
palomino4Windows Server 2022 Datacenterx644.2.0 Patched (2022-04-24 r82246 ucrt) -- "Vigorous Calisthenics" 4129
lconwaymacOS 12.2.1 Montereyx86_644.2.0 Patched (2022-04-24 r82246) -- "Vigorous Calisthenics" 4138
Click on any hostname to see more info about the system (e.g. compilers)      (*) as reported by 'uname -p', except on Windows and Mac OS X

All results for package ctgGEM


To the developers/maintainers of the ctgGEM package:
- Please allow up to 24 hours (and sometimes 48 hours) for your latest push to git@git.bioconductor.org:packages/ctgGEM.git to
reflect on this report. See How and When does the builder pull? When will my changes propagate? for more information.
- Make sure to use the following settings in order to reproduce any error or warning you see on this page.

raw results

Package 440/2112HostnameOS / ArchINSTALLBUILDCHECKBUILD BIN
ctgGEM 1.9.1  (landing page)
USD Biomedical Engineering
Snapshot Date: 2022-05-17 13:55:04 -0400 (Tue, 17 May 2022)
git_url: https://git.bioconductor.org/packages/ctgGEM
git_branch: master
git_last_commit: dc42108
git_last_commit_date: 2022-05-10 08:17:51 -0400 (Tue, 10 May 2022)
nebbiolo2Linux (Ubuntu 20.04.4 LTS) / x86_64  ERROR    ERROR  skipped
palomino4Windows Server 2022 Datacenter / x64  ERROR    ERROR  skippedskipped
lconwaymacOS 12.2.1 Monterey / x86_64  ERROR    ERROR  skippedskipped