Index of /checkResults/devel/bioc-LATEST/ctc/raw-results/palomino3

[ICO]NameLast modifiedSizeDescription

[DIR]Parent Directory  -  
[TXT]buildbin-out.txt05-Feb-2023 01:05 1.1K 
[   ]buildbin-summary.dcf05-Feb-2023 01:05 490  
[TXT]buildsrc-out.txt05-Feb-2023 01:05 819  
[   ]buildsrc-summary.dcf05-Feb-2023 01:05 435  
[TXT]checksrc-out.txt05-Feb-2023 01:05 4.6K 
[   ]checksrc-summary.dcf05-Feb-2023 01:05 430  
[TXT]install-out.txt05-Feb-2023 01:05 959  
[   ]install-summary.dcf05-Feb-2023 01:05 260