![]() | Name | Last modified | Size | Description |
---|---|---|---|---|
![]() | Parent Directory | - | ||
![]() | buildsrc-out.txt | 27-Jan-2023 01:05 | 790 | |
![]() | buildsrc-summary.dcf | 27-Jan-2023 01:05 | 404 | |
![]() | checksrc-out.txt | 27-Jan-2023 01:05 | 4.6K | |
![]() | checksrc-summary.dcf | 27-Jan-2023 01:05 | 392 | |
![]() | install-out.txt | 27-Jan-2023 01:05 | 943 | |
![]() | install-summary.dcf | 27-Jan-2023 01:05 | 250 | |