Name | Last modified | Size | Description | |
---|---|---|---|---|
Parent Directory | - | |||
checksrc-out.txt | 02-May-2024 00:39 | 4.7K | ||
buildbin-out.txt | 02-May-2024 00:39 | 1.1K | ||
install-out.txt | 02-May-2024 00:39 | 1.0K | ||
buildsrc-out.txt | 02-May-2024 00:39 | 800 | ||
buildbin-summary.dcf | 02-May-2024 00:39 | 505 | ||
checksrc-summary.dcf | 02-May-2024 00:39 | 427 | ||
buildsrc-summary.dcf | 02-May-2024 00:39 | 415 | ||
install-summary.dcf | 02-May-2024 00:39 | 260 | ||