Back to Multiple platform build/check report for BioC 3.14
AB[C]DEFGHIJKLMNOPQRSTUVWXYZ

This page was generated on 2021-10-23 14:06:23 -0400 (Sat, 23 Oct 2021).

BUILD results for csaw on riesling1

To the developers/maintainers of the csaw package:
- Please allow up to 24 hours (and sometimes 48 hours) for your latest push to git@git.bioconductor.org:packages/csaw.git to
reflect on this report. See How and When does the builder pull? When will my changes propagate? here for more information.
- Make sure to use the following settings in order to reproduce any error or warning you see on this page.

raw results

Package 422/2083HostnameOS / ArchINSTALLBUILDCHECKBUILD BIN
csaw 1.27.1  (landing page)
Aaron Lun
Snapshot Date: 2021-10-22 14:50:11 -0400 (Fri, 22 Oct 2021)
git_url: https://git.bioconductor.org/packages/csaw
git_branch: master
git_last_commit: e17d862
git_last_commit_date: 2021-10-22 02:02:13 -0400 (Fri, 22 Oct 2021)
nebbiolo2Linux (Ubuntu 20.04.2 LTS) / x86_64  OK    OK    OK  YES
riesling1Windows Server 2019 Standard / x64  OK    OK    OK    OK  YES
merida1macOS 10.14.6 Mojave / x86_64  OK    OK    OK    OK  YES

Summary

Package: csaw
Version: 1.27.1
Command: chmod a+r csaw -R && D:\biocbuild\bbs-3.14-bioc\R\bin\R.exe CMD build --keep-empty-dirs --no-resave-data csaw
StartedAt: 2021-10-22 20:17:55 -0400 (Fri, 22 Oct 2021)
EndedAt: 2021-10-22 20:22:35 -0400 (Fri, 22 Oct 2021)
EllapsedTime: 279.7 seconds
RetCode: 0
Status:   OK  
PackageFile: csaw_1.27.1.tar.gz
PackageFileSize: 389 KiB

Command output

##############################################################################
##############################################################################
###
### Running command:
###
###   chmod a+r csaw -R && D:\biocbuild\bbs-3.14-bioc\R\bin\R.exe CMD build --keep-empty-dirs --no-resave-data csaw
###
##############################################################################
##############################################################################


* checking for file 'csaw/DESCRIPTION' ... OK
* preparing 'csaw':
* checking DESCRIPTION meta-information ... OK
* cleaning src
* installing the package to build vignettes
* creating vignettes ... OK
* cleaning src
* checking for LF line-endings in source and make files and shell scripts
* checking for empty or unneeded directories
* building 'csaw_1.27.1.tar.gz'