Index of /checkResults/devel/bioc-LATEST/csaw/raw-results/nebbiolo1

[ICO]NameLast modifiedSizeDescription

[DIR]Parent Directory  -  
[TXT]buildsrc-out.txt22-Jan-2022 01:05 1.1K 
[   ]buildsrc-summary.dcf22-Jan-2022 01:05 406  
[TXT]checksrc-out.txt22-Jan-2022 01:05 4.5K 
[   ]checksrc-summary.dcf22-Jan-2022 01:05 412  
[TXT]install-out.txt22-Jan-2022 01:05 8.0K 
[   ]install-summary.dcf22-Jan-2022 01:05 253