Back to Multiple platform build/check report for BioC 3.15
AB[C]DEFGHIJKLMNOPQRSTUVWXYZ

This page was generated on 2021-11-27 14:04:58 -0500 (Sat, 27 Nov 2021).

INSTALL results for crossmeta on riesling1

To the developers/maintainers of the crossmeta package:
- Please allow up to 24 hours (and sometimes 48 hours) for your latest push to git@git.bioconductor.org:packages/crossmeta.git to
reflect on this report. See How and When does the builder pull? When will my changes propagate? here for more information.
- Make sure to use the following settings in order to reproduce any error or warning you see on this page.

raw results

Package 418/2068HostnameOS / ArchINSTALLBUILDCHECKBUILD BIN
crossmeta 1.21.0  (landing page)
Alex Pickering
Snapshot Date: 2021-11-26 14:50:14 -0500 (Fri, 26 Nov 2021)
git_url: https://git.bioconductor.org/packages/crossmeta
git_branch: master
git_last_commit: 9161035
git_last_commit_date: 2021-10-26 12:28:29 -0500 (Tue, 26 Oct 2021)
nebbiolo1Linux (Ubuntu 20.04.3 LTS) / x86_64  OK    OK    WARNINGS  UNNEEDED, same version is already published
riesling1Windows Server 2019 Standard / x64  OK    OK    WARNINGS    OK  
merida1macOS 10.14.6 Mojave / x86_64  OK    OK    WARNINGS    OK  UNNEEDED, same version is already published

Summary

Package: crossmeta
Version: 1.21.0
Command: C:\cygwin\bin\curl.exe -O http://155.52.207.165/BBS/3.15/bioc/src/contrib/crossmeta_1.21.0.tar.gz && rm -rf crossmeta.buildbin-libdir && mkdir crossmeta.buildbin-libdir && D:\biocbuild\bbs-3.15-bioc\R\bin\R.exe CMD INSTALL --merge-multiarch --build --library=crossmeta.buildbin-libdir crossmeta_1.21.0.tar.gz && D:\biocbuild\bbs-3.15-bioc\R\bin\R.exe CMD INSTALL crossmeta_1.21.0.zip && rm crossmeta_1.21.0.tar.gz crossmeta_1.21.0.zip
StartedAt: 2021-11-26 19:29:18 -0500 (Fri, 26 Nov 2021)
EndedAt: 2021-11-26 19:32:12 -0500 (Fri, 26 Nov 2021)
EllapsedTime: 173.7 seconds
RetCode: 0
Status:   OK  

Command output

##############################################################################
##############################################################################
###
### Running command:
###
###   C:\cygwin\bin\curl.exe -O http://155.52.207.165/BBS/3.15/bioc/src/contrib/crossmeta_1.21.0.tar.gz && rm -rf crossmeta.buildbin-libdir && mkdir crossmeta.buildbin-libdir && D:\biocbuild\bbs-3.15-bioc\R\bin\R.exe CMD INSTALL --merge-multiarch --build --library=crossmeta.buildbin-libdir crossmeta_1.21.0.tar.gz && D:\biocbuild\bbs-3.15-bioc\R\bin\R.exe CMD INSTALL crossmeta_1.21.0.zip && rm crossmeta_1.21.0.tar.gz crossmeta_1.21.0.zip
###
##############################################################################
##############################################################################


  % Total    % Received % Xferd  Average Speed   Time    Time     Time  Current
                                 Dload  Upload   Total   Spent    Left  Speed

  0     0    0     0    0     0      0      0 --:--:-- --:--:-- --:--:--     0
 78 3874k   78 3050k    0     0  5659k      0 --:--:-- --:--:-- --:--:-- 5659k
100 3874k  100 3874k    0     0  6599k      0 --:--:-- --:--:-- --:--:-- 6588k
only one architecture so ignoring '--merge-multiarch'
* installing *source* package 'crossmeta' ...
** using staged installation
** R
** data
*** moving datasets to lazyload DB
** inst
** byte-compile and prepare package for lazy loading
** help
*** installing help indices
  converting help for package 'crossmeta'
    finding HTML links ... done
    addContrastInput                        html  
    add_adjusted                            html  
    add_sources                             html  
    add_vsd                                 html  
    bulkAnnot                               html  
    bulkAnnotInput                          html  
    bulkForm                                html  
    bulkFormInput                           html  
    bulkPage                                html  
    bulkPageUI                              html  
    bulkTable                               html  
    bulkTableOuput                          html  
    ch2_subset                              html  
    clean_y                                 html  
    delContrastsInput                       html  
    diff_expr                               html  
    es_meta                                 html  
    exprs.MA                                html  
    filter_genes                            html  
    fit_ebayes                              html  
    fit_lm                                  html  
    fix_illum_headers                       html  
    finding level-2 HTML links ... done

    format_dl_annot                         html  
    format_up_annot                         html  
    get_ch2_mod                             html  
    get_group_levels                        html  
    get_palette                             html  
    get_raw                                 html  
    get_sva_mods                            html  
    get_top_table                           html  
    get_vsd                                 html  
    gs.names                                html  
    gslist                                  html  
    ilmn.nnum                               html  
    iqr_replicates                          html  
    is_invertible                           html  
    load_agil_plat                          html  
    load_diff                               html  
    load_illum_plat                         html  
    load_plat                               html  
    load_raw                                html  
    match_prev_eset                         html  
    open_raw_illum                          html  
    phenoData.ch2                           html  
    prefix_illum_headers                    html  
    query_ref                               html  
    remove_autonamed                        html  
    run_limma                               html  
    run_limma_setup                         html  
    run_lmfit                               html  
    run_select_contrasts                    html  
    run_sva                                 html  
    setup_prev                              html  
    symbol_annot                            html  
    to_eset                                 html  
    to_ma                                   html  
    validate_up_annot                       html  
    which_max_iqr                           html  
    xls_to_txt                              html  
** building package indices
** installing vignettes
** testing if installed package can be loaded from temporary location
** testing if installed package can be loaded from final location
** testing if installed package keeps a record of temporary installation path
* MD5 sums
packaged installation of 'crossmeta' as crossmeta_1.21.0.zip
* DONE (crossmeta)
* installing to library 'D:/biocbuild/bbs-3.15-bioc/R/library'
package 'crossmeta' successfully unpacked and MD5 sums checked