Back to Multiple platform build/check report for BioC 3.15
AB[C]DEFGHIJKLMNOPQRSTUVWXYZ

This page was generated on 2021-11-27 14:04:58 -0500 (Sat, 27 Nov 2021).

BUILD results for crossmeta on riesling1

To the developers/maintainers of the crossmeta package:
- Please allow up to 24 hours (and sometimes 48 hours) for your latest push to git@git.bioconductor.org:packages/crossmeta.git to
reflect on this report. See How and When does the builder pull? When will my changes propagate? here for more information.
- Make sure to use the following settings in order to reproduce any error or warning you see on this page.

raw results

Package 418/2068HostnameOS / ArchINSTALLBUILDCHECKBUILD BIN
crossmeta 1.21.0  (landing page)
Alex Pickering
Snapshot Date: 2021-11-26 14:50:14 -0500 (Fri, 26 Nov 2021)
git_url: https://git.bioconductor.org/packages/crossmeta
git_branch: master
git_last_commit: 9161035
git_last_commit_date: 2021-10-26 12:28:29 -0500 (Tue, 26 Oct 2021)
nebbiolo1Linux (Ubuntu 20.04.3 LTS) / x86_64  OK    OK    WARNINGS  UNNEEDED, same version is already published
riesling1Windows Server 2019 Standard / x64  OK    OK    WARNINGS    OK  
merida1macOS 10.14.6 Mojave / x86_64  OK    OK    WARNINGS    OK  UNNEEDED, same version is already published

Summary

Package: crossmeta
Version: 1.21.0
Command: chmod a+r crossmeta -R && D:\biocbuild\bbs-3.15-bioc\R\bin\R.exe CMD build --keep-empty-dirs --no-resave-data crossmeta
StartedAt: 2021-11-26 20:32:05 -0500 (Fri, 26 Nov 2021)
EndedAt: 2021-11-26 20:37:46 -0500 (Fri, 26 Nov 2021)
EllapsedTime: 341.3 seconds
RetCode: 0
Status:   OK  
PackageFile: crossmeta_1.21.0.tar.gz
PackageFileSize: 2.951 MiB

Command output

##############################################################################
##############################################################################
###
### Running command:
###
###   chmod a+r crossmeta -R && D:\biocbuild\bbs-3.15-bioc\R\bin\R.exe CMD build --keep-empty-dirs --no-resave-data crossmeta
###
##############################################################################
##############################################################################


* checking for file 'crossmeta/DESCRIPTION' ... OK
* preparing 'crossmeta':
* checking DESCRIPTION meta-information ... OK
* installing the package to build vignettes
* creating vignettes ... OK
* checking for LF line-endings in source and make files and shell scripts
* checking for empty or unneeded directories
* building 'crossmeta_1.21.0.tar.gz'