Index of /checkResults/devel/bioc-LATEST/crossmeta/raw-results/palomino3

[ICO]NameLast modifiedSizeDescription

[DIR]Parent Directory  -  
[TXT]buildbin-out.txt29-Mar-2024 00:37 1.1K 
[   ]buildbin-summary.dcf29-Mar-2024 00:37 527  
[TXT]buildsrc-out.txt29-Mar-2024 00:37 849  
[   ]buildsrc-summary.dcf29-Mar-2024 00:37 461  
[TXT]checksrc-out.txt29-Mar-2024 00:37 3.7K 
[   ]checksrc-summary.dcf29-Mar-2024 00:37 455  
[TXT]install-out.txt29-Mar-2024 00:37 1.0K 
[   ]install-summary.dcf29-Mar-2024 00:37 272