Name | Last modified | Size | Description | |
---|---|---|---|---|
Parent Directory | - | |||
buildbin-out.txt | 01-Jun-2024 08:31 | 4.7K | ||
buildbin-summary.dcf | 01-Jun-2024 08:31 | 518 | ||
buildsrc-out.txt | 01-Jun-2024 08:31 | 901 | ||
buildsrc-summary.dcf | 01-Jun-2024 08:31 | 422 | ||
checksrc-out.txt | 01-Jun-2024 08:31 | 6.6K | ||
checksrc-summary.dcf | 01-Jun-2024 08:31 | 443 | ||
install-out.txt | 01-Jun-2024 08:31 | 2.9K | ||
install-summary.dcf | 01-Jun-2024 08:31 | 265 | ||