Back to Multiple platform build/check report for BioC 3.15
AB[C]DEFGHIJKLMNOPQRSTUVWXYZ

This page was generated on 2022-01-19 11:07:29 -0500 (Wed, 19 Jan 2022).

HostnameOSArch (*)R versionInstalled pkgs
nebbiolo1Linux (Ubuntu 20.04.4 LTS)x86_64R Under development (unstable) (2022-01-05 r81451) -- "Unsuffered Consequences" 4161
riesling1Windows Server 2019 Standardx64R Under development (unstable) (2021-11-21 r81221) -- "Unsuffered Consequences" 4056
palomino3Windows Server 2022 Datacenterx64R Under development (unstable) (2021-12-21 r81400 ucrt) -- "Unsuffered Consequences" 3998
merida1macOS 10.14.6 Mojavex86_64R Under development (unstable) (2022-01-05 r81451) -- "Unsuffered Consequences" 4115
Click on any hostname to see more info about the system (e.g. compilers)      (*) as reported by 'uname -p', except on Windows and Mac OS X

BUILD BIN results for crisprseekplus on riesling1


To the developers/maintainers of the crisprseekplus package:
- Please allow up to 24 hours (and sometimes 48 hours) for your latest push to git@git.bioconductor.org:packages/crisprseekplus.git to
reflect on this report. See How and When does the builder pull? When will my changes propagate? here for more information.
- Make sure to use the following settings in order to reproduce any error or warning you see on this page.

raw results

Package 419/2074HostnameOS / ArchINSTALLBUILDCHECKBUILD BIN
crisprseekplus 1.21.0  (landing page)
Alper Kucukural
Snapshot Date: 2022-01-18 13:55:18 -0500 (Tue, 18 Jan 2022)
git_url: https://git.bioconductor.org/packages/crisprseekplus
git_branch: master
git_last_commit: 6eb4a83
git_last_commit_date: 2021-10-26 12:30:57 -0500 (Tue, 26 Oct 2021)
nebbiolo1Linux (Ubuntu 20.04.4 LTS) / x86_64  OK    OK    OK  UNNEEDED, same version is already published
riesling1Windows Server 2019 Standard / x64  OK    OK    OK    OK  
palomino3Windows Server 2022 Datacenter / x64  OK    OK    OK    OK  NO, package depends on 'CRISPRseek' which is not available
merida1macOS 10.14.6 Mojave / x86_64  OK    OK    OK    OK  UNNEEDED, same version is already published

Summary

Package: crisprseekplus
Version: 1.21.0
Command: rm -rf crisprseekplus.buildbin-libdir && mkdir crisprseekplus.buildbin-libdir && D:\biocbuild\bbs-3.15-bioc\R\bin\R.exe CMD INSTALL --build --library=crisprseekplus.buildbin-libdir crisprseekplus_1.21.0.tar.gz
StartedAt: 2022-01-18 20:46:59 -0500 (Tue, 18 Jan 2022)
EndedAt: 2022-01-18 20:48:00 -0500 (Tue, 18 Jan 2022)
EllapsedTime: 61.6 seconds
RetCode: 0
Status:   OK  
PackageFile: crisprseekplus_1.21.0.zip
PackageFileSize: 369.5 KiB

Command output

##############################################################################
##############################################################################
###
### Running command:
###
###   rm -rf crisprseekplus.buildbin-libdir && mkdir crisprseekplus.buildbin-libdir && D:\biocbuild\bbs-3.15-bioc\R\bin\R.exe CMD INSTALL --build --library=crisprseekplus.buildbin-libdir crisprseekplus_1.21.0.tar.gz
###
##############################################################################
##############################################################################


* installing *source* package 'crisprseekplus' ...
** using staged installation
** R
** inst
** byte-compile and prepare package for lazy loading
** help
*** installing help indices
  converting help for package 'crisprseekplus'
    finding HTML links ... done
    cspServer                               html  
    cspUI                                   html  
    disableDownload                         html  
    fileInputFunc                           html  
    getLoadingMsg                           html  
    getLogo                                 html  
    installpack                             html  
    startcrisprseekplus                     html  
    trueFalseFunc                           html  
** building package indices
** installing vignettes
** testing if installed package can be loaded from temporary location
** testing if installed package can be loaded from final location
** testing if installed package keeps a record of temporary installation path
* MD5 sums
packaged installation of 'crisprseekplus' as crisprseekplus_1.21.0.zip
* DONE (crisprseekplus)