Index of /checkResults/devel/bioc-LATEST/crisprScore/raw-results/merida1

[ICO]NameLast modifiedSizeDescription

[DIR]Parent Directory  -  
[TXT]buildbin-out.txt18-May-2024 00:38 1.1K 
[   ]buildbin-summary.dcf18-May-2024 00:38 550  
[TXT]buildsrc-out.txt18-May-2024 00:38 1.6K 
[   ]buildsrc-summary.dcf18-May-2024 00:38 437  
[TXT]checksrc-out.txt18-May-2024 00:38 4.7K 
[   ]checksrc-summary.dcf18-May-2024 00:38 458  
[TXT]install-out.txt18-May-2024 00:38 902  
[   ]install-summary.dcf18-May-2024 00:38 276