Name | Last modified | Size | Description | |
---|---|---|---|---|
Parent Directory | - | |||
install-summary.dcf | 12-Jun-2024 04:40 | 277 | ||
buildsrc-summary.dcf | 12-Jun-2024 04:40 | 471 | ||
checksrc-summary.dcf | 12-Jun-2024 04:40 | 498 | ||
buildbin-summary.dcf | 12-Jun-2024 04:40 | 543 | ||
buildsrc-out.txt | 12-Jun-2024 04:40 | 863 | ||
install-out.txt | 12-Jun-2024 04:40 | 1.0K | ||
buildbin-out.txt | 12-Jun-2024 04:40 | 1.1K | ||
checksrc-out.txt | 12-Jun-2024 04:40 | 3.8K | ||