Name | Last modified | Size | Description | |
---|---|---|---|---|
Parent Directory | - | |||
checksrc-summary.dcf | 28-Jul-2024 00:38 | 432 | ||
checksrc-out.txt | 28-Jul-2024 00:38 | 3.7K | ||
buildsrc-summary.dcf | 28-Jul-2024 00:38 | 436 | ||
buildsrc-out.txt | 28-Jul-2024 00:38 | 849 | ||
install-summary.dcf | 28-Jul-2024 00:38 | 268 | ||
install-out.txt | 28-Jul-2024 00:38 | 1.0K | ||