Name | Last modified | Size | Description | |
---|---|---|---|---|
Parent Directory | - | |||
install-summary.dcf | 17-Jul-2024 00:40 | 283 | ||
install-out.txt | 17-Jul-2024 00:40 | 1.0K | ||
checksrc-summary.dcf | 17-Jul-2024 00:40 | 477 | ||
checksrc-out.txt | 17-Jul-2024 00:40 | 3.2K | ||
buildsrc-summary.dcf | 17-Jul-2024 00:40 | 476 | ||
buildsrc-out.txt | 17-Jul-2024 00:40 | 869 | ||
buildbin-summary.dcf | 17-Jul-2024 00:40 | 548 | ||
buildbin-out.txt | 17-Jul-2024 00:40 | 1.1K | ||