![]() | Name | Last modified | Size | Description |
---|---|---|---|---|
![]() | Parent Directory | - | ||
![]() | buildbin-out.txt | 03-Oct-2023 00:37 | 1.1K | |
![]() | buildbin-summary.dcf | 03-Oct-2023 00:37 | 542 | |
![]() | buildsrc-out.txt | 03-Oct-2023 00:37 | 863 | |
![]() | buildsrc-summary.dcf | 03-Oct-2023 00:37 | 470 | |
![]() | checksrc-out.txt | 03-Oct-2023 00:37 | 3.1K | |
![]() | checksrc-summary.dcf | 03-Oct-2023 00:37 | 465 | |
![]() | install-out.txt | 03-Oct-2023 00:37 | 1.0K | |
![]() | install-summary.dcf | 03-Oct-2023 00:37 | 277 | |