Index of /checkResults/devel/bioc-LATEST/crisprBowtie/raw-results/palomino3

[ICO]NameLast modifiedSizeDescription

[DIR]Parent Directory  -  
[TXT]buildbin-out.txt02-Mar-2024 01:37 1.1K 
[   ]buildbin-summary.dcf02-Mar-2024 01:37 540  
[TXT]buildsrc-out.txt02-Mar-2024 01:37 863  
[   ]buildsrc-summary.dcf02-Mar-2024 01:37 470  
[TXT]checksrc-out.txt02-Mar-2024 01:37 3.2K 
[   ]checksrc-summary.dcf02-Mar-2024 01:37 465  
[TXT]install-out.txt02-Mar-2024 01:37 1.0K 
[   ]install-summary.dcf02-Mar-2024 01:37 277