Index of /checkResults/devel/bioc-LATEST/crisprBowtie/raw-results/nebbiolo2

[ICO]NameLast modifiedSizeDescription

[DIR]Parent Directory  -  
[TXT]buildsrc-out.txt01-Oct-2023 00:36 825  
[   ]buildsrc-summary.dcf01-Oct-2023 00:36 430  
[TXT]checksrc-out.txt01-Oct-2023 00:36 3.2K 
[   ]checksrc-summary.dcf01-Oct-2023 00:36 432  
[TXT]install-out.txt01-Oct-2023 00:36 967  
[   ]install-summary.dcf01-Oct-2023 00:36 268