Index of /checkResults/devel/bioc-LATEST/crisprBowtie/raw-results/nebbiolo1

[ICO]NameLast modifiedSizeDescription

[DIR]Parent Directory  -  
[TXT]buildsrc-out.txt02-Mar-2024 01:36 825  
[   ]buildsrc-summary.dcf02-Mar-2024 01:36 430  
[TXT]checksrc-out.txt02-Mar-2024 01:36 3.2K 
[   ]checksrc-summary.dcf02-Mar-2024 01:36 432  
[TXT]install-out.txt02-Mar-2024 01:36 967  
[   ]install-summary.dcf02-Mar-2024 01:36 268