Index of /checkResults/devel/bioc-LATEST/crisprBowtie/raw-results/merida1

[ICO]NameLast modifiedSizeDescription

[DIR]Parent Directory  -  
[TXT]buildbin-out.txt02-Mar-2024 01:38 1.2K 
[   ]buildbin-summary.dcf02-Mar-2024 01:38 557  
[TXT]buildsrc-out.txt02-Mar-2024 01:38 835  
[   ]buildsrc-summary.dcf02-Mar-2024 01:38 441  
[TXT]checksrc-out.txt02-Mar-2024 01:38 3.3K 
[   ]checksrc-summary.dcf02-Mar-2024 01:38 462  
[TXT]install-out.txt02-Mar-2024 01:38 1.0K 
[   ]install-summary.dcf02-Mar-2024 01:38 278