Name | Last modified | Size | Description | |
---|---|---|---|---|
Parent Directory | - | |||
install-summary.dcf | 07-Jul-2024 00:44 | 256 | ||
buildsrc-summary.dcf | 09-Jul-2024 00:44 | 418 | ||
checksrc-summary.dcf | 09-Jul-2024 00:44 | 423 | ||
buildsrc-out.txt | 09-Jul-2024 00:44 | 813 | ||
install-out.txt | 07-Jul-2024 00:44 | 949 | ||
checksrc-out.txt | 09-Jul-2024 00:44 | 3.3K | ||