Index of /checkResults/devel/bioc-LATEST/crisprBowtie/raw-results/kunpeng2

[ICO]NameLast modifiedSizeDescription

[DIR]Parent Directory  -  
[TXT]buildsrc-out.txt08-Dec-2023 01:39 834  
[   ]buildsrc-summary.dcf08-Dec-2023 01:39 439  
[TXT]checksrc-out.txt08-Dec-2023 01:39 3.2K 
[   ]checksrc-summary.dcf08-Dec-2023 01:39 465  
[TXT]install-out.txt08-Dec-2023 01:39 1.0K 
[   ]install-summary.dcf08-Dec-2023 01:39 277