Back to Multiple platform build/check report for BioC 3.14
AB[C]DEFGHIJKLMNOPQRSTUVWXYZ

This page was generated on 2021-10-21 12:04:42 -0400 (Thu, 21 Oct 2021).

BUILD BIN results for countsimQC on riesling1

To the developers/maintainers of the countsimQC package:
- Please allow up to 24 hours (and sometimes 48 hours) for your latest push to git@git.bioconductor.org:packages/countsimQC.git to
reflect on this report. See How and When does the builder pull? When will my changes propagate? here for more information.
- Make sure to use the following settings in order to reproduce any error or warning you see on this page.

raw results

Package 406/2075HostnameOS / ArchINSTALLBUILDCHECKBUILD BIN
countsimQC 1.11.0  (landing page)
Charlotte Soneson
Snapshot Date: 2021-10-20 14:50:05 -0400 (Wed, 20 Oct 2021)
git_url: https://git.bioconductor.org/packages/countsimQC
git_branch: master
git_last_commit: a129d9a
git_last_commit_date: 2021-05-19 12:38:19 -0400 (Wed, 19 May 2021)
nebbiolo2Linux (Ubuntu 20.04.2 LTS) / x86_64  OK    OK    OK  UNNEEDED, same version is already published
riesling1Windows Server 2019 Standard / x64  OK    OK    OK    OK  UNNEEDED, same version is already published
merida1macOS 10.14.6 Mojave / x86_64  OK    OK    OK    OK  UNNEEDED, same version is already published

Summary

Package: countsimQC
Version: 1.11.0
Command: rm -rf countsimQC.buildbin-libdir && mkdir countsimQC.buildbin-libdir && D:\biocbuild\bbs-3.14-bioc\R\bin\R.exe CMD INSTALL --merge-multiarch --build --library=countsimQC.buildbin-libdir countsimQC_1.11.0.tar.gz
StartedAt: 2021-10-21 05:44:45 -0400 (Thu, 21 Oct 2021)
EndedAt: 2021-10-21 05:48:47 -0400 (Thu, 21 Oct 2021)
EllapsedTime: 241.9 seconds
RetCode: 0
Status:   OK  
PackageFile: countsimQC_1.11.0.zip
PackageFileSize: 647 KiB

Command output

##############################################################################
##############################################################################
###
### Running command:
###
###   rm -rf countsimQC.buildbin-libdir && mkdir countsimQC.buildbin-libdir && D:\biocbuild\bbs-3.14-bioc\R\bin\R.exe CMD INSTALL --merge-multiarch --build --library=countsimQC.buildbin-libdir countsimQC_1.11.0.tar.gz
###
##############################################################################
##############################################################################



install for i386

* installing *source* package 'countsimQC' ...
** using staged installation
** R
** data
** inst
** byte-compile and prepare package for lazy loading
** help
*** installing help indices
  converting help for package 'countsimQC'
    finding HTML links ... done
    calculateDispersionsddsList             html  
    calculateFeatureCorrs                   html  
    calculateSampleCorrs                    html  
    calculateStats                          html  
    countsimExample                         html  
    countsimExample_dfmat                   html  
    countsimQC-pkg                          html  
    countsimQCReport                        html  
    defaultStats                            html  
    defineTableDesc                         html  
    generateIndividualPlots                 html  
    makeDF                                  html  
** building package indices
** installing vignettes
** testing if installed package can be loaded from temporary location
** testing if installed package can be loaded from final location
** testing if installed package keeps a record of temporary installation path

install for x64

* installing *source* package 'countsimQC' ...
** testing if installed package can be loaded
* MD5 sums
packaged installation of 'countsimQC' as countsimQC_1.11.0.zip
* DONE (countsimQC)