Back to Multiple platform build/check report for BioC 3.14
AB[C]DEFGHIJKLMNOPQRSTUVWXYZ

This page was generated on 2021-10-22 12:04:54 -0400 (Fri, 22 Oct 2021).

BUILD results for countsimQC on merida1

To the developers/maintainers of the countsimQC package:
- Please allow up to 24 hours (and sometimes 48 hours) for your latest push to git@git.bioconductor.org:packages/countsimQC.git to
reflect on this report. See How and When does the builder pull? When will my changes propagate? here for more information.
- Make sure to use the following settings in order to reproduce any error or warning you see on this page.

raw results

Package 406/2075HostnameOS / ArchINSTALLBUILDCHECKBUILD BIN
countsimQC 1.11.0  (landing page)
Charlotte Soneson
Snapshot Date: 2021-10-21 14:50:08 -0400 (Thu, 21 Oct 2021)
git_url: https://git.bioconductor.org/packages/countsimQC
git_branch: master
git_last_commit: a129d9a
git_last_commit_date: 2021-05-19 12:38:19 -0400 (Wed, 19 May 2021)
nebbiolo2Linux (Ubuntu 20.04.2 LTS) / x86_64  OK    OK    OK  UNNEEDED, same version is already published
riesling1Windows Server 2019 Standard / x64  OK    OK    OK    OK  UNNEEDED, same version is already published
merida1macOS 10.14.6 Mojave / x86_64  OK    OK    OK    OK  UNNEEDED, same version is already published

Summary

Package: countsimQC
Version: 1.11.0
Command: /Library/Frameworks/R.framework/Resources/bin/R CMD build --keep-empty-dirs --no-resave-data countsimQC
StartedAt: 2021-10-21 19:28:18 -0400 (Thu, 21 Oct 2021)
EndedAt: 2021-10-21 19:30:39 -0400 (Thu, 21 Oct 2021)
EllapsedTime: 140.8 seconds
RetCode: 0
Status:   OK  
PackageFile: countsimQC_1.11.0.tar.gz
PackageFileSize: 573.9 KiB

Command output

##############################################################################
##############################################################################
###
### Running command:
###
###   /Library/Frameworks/R.framework/Resources/bin/R CMD build --keep-empty-dirs --no-resave-data countsimQC
###
##############################################################################
##############################################################################


* checking for file ‘countsimQC/DESCRIPTION’ ... OK
* preparing ‘countsimQC’:
* checking DESCRIPTION meta-information ... OK
* installing the package to build vignettes
* creating vignettes ... OK
* checking for LF line-endings in source and make files and shell scripts
* checking for empty or unneeded directories
* looking to see if a ‘data/datalist’ file should be added
* building ‘countsimQC_1.11.0.tar.gz’