Name | Last modified | Size | Description | |
---|---|---|---|---|
Parent Directory | - | |||
kjohnson1/ | 12-Jun-2024 04:42 | - | ||
kjohnson3/ | 14-Jun-2024 01:20 | - | ||
kunpeng2/ | 16-May-2024 02:46 | - | ||
lconway/ | 14-Jun-2024 01:19 | - | ||
merida1/ | 12-Jun-2024 04:41 | - | ||
nebbiolo2/ | 14-Jun-2024 01:18 | - | ||
palomino4/ | 12-Jun-2024 04:40 | - | ||
info.dcf | 14-Jun-2024 01:17 | 269 | ||