Back to Multiple platform build/check report for BioC 3.14
AB[C]DEFGHIJKLMNOPQRSTUVWXYZ

This page was generated on 2021-10-21 12:04:42 -0400 (Thu, 21 Oct 2021).

INSTALL results for coseq on riesling1

To the developers/maintainers of the coseq package:
- Please allow up to 24 hours (and sometimes 48 hours) for your latest push to git@git.bioconductor.org:packages/coseq.git to
reflect on this report. See How and When does the builder pull? When will my changes propagate? here for more information.
- Make sure to use the following settings in order to reproduce any error or warning you see on this page.

raw results

Package 401/2075HostnameOS / ArchINSTALLBUILDCHECKBUILD BIN
coseq 1.17.2  (landing page)
Andrea Rau
Snapshot Date: 2021-10-20 14:50:05 -0400 (Wed, 20 Oct 2021)
git_url: https://git.bioconductor.org/packages/coseq
git_branch: master
git_last_commit: 8fc04ca
git_last_commit_date: 2021-07-21 03:53:14 -0400 (Wed, 21 Jul 2021)
nebbiolo2Linux (Ubuntu 20.04.2 LTS) / x86_64  OK    OK    OK  UNNEEDED, same version is already published
riesling1Windows Server 2019 Standard / x64  OK    OK    OK    OK  UNNEEDED, same version is already published
merida1macOS 10.14.6 Mojave / x86_64  OK    OK    OK    OK  UNNEEDED, same version is already published

Summary

Package: coseq
Version: 1.17.2
Command: C:\cygwin\bin\curl.exe -O http://155.52.207.166/BBS/3.14/bioc/src/contrib/coseq_1.17.2.tar.gz && rm -rf coseq.buildbin-libdir && mkdir coseq.buildbin-libdir && D:\biocbuild\bbs-3.14-bioc\R\bin\R.exe CMD INSTALL --merge-multiarch --build --library=coseq.buildbin-libdir coseq_1.17.2.tar.gz && D:\biocbuild\bbs-3.14-bioc\R\bin\R.exe CMD INSTALL coseq_1.17.2.zip && rm coseq_1.17.2.tar.gz coseq_1.17.2.zip
StartedAt: 2021-10-20 18:15:46 -0400 (Wed, 20 Oct 2021)
EndedAt: 2021-10-20 18:18:56 -0400 (Wed, 20 Oct 2021)
EllapsedTime: 189.8 seconds
RetCode: 0
Status:   OK  

Command output

##############################################################################
##############################################################################
###
### Running command:
###
###   C:\cygwin\bin\curl.exe -O http://155.52.207.166/BBS/3.14/bioc/src/contrib/coseq_1.17.2.tar.gz && rm -rf coseq.buildbin-libdir && mkdir coseq.buildbin-libdir && D:\biocbuild\bbs-3.14-bioc\R\bin\R.exe CMD INSTALL --merge-multiarch --build --library=coseq.buildbin-libdir coseq_1.17.2.tar.gz && D:\biocbuild\bbs-3.14-bioc\R\bin\R.exe CMD INSTALL coseq_1.17.2.zip && rm coseq_1.17.2.tar.gz coseq_1.17.2.zip
###
##############################################################################
##############################################################################


  % Total    % Received % Xferd  Average Speed   Time    Time     Time  Current
                                 Dload  Upload   Total   Spent    Left  Speed

  0     0    0     0    0     0      0      0 --:--:-- --:--:-- --:--:--     0
100  321k  100  321k    0     0  1404k      0 --:--:-- --:--:-- --:--:-- 1404k

install for i386

* installing *source* package 'coseq' ...
** using staged installation
** R
** data
** inst
** byte-compile and prepare package for lazy loading
Creating a new generic function for 'plot' in package 'coseq'
** help
*** installing help indices
  converting help for package 'coseq'
    finding HTML links ... done
    NormMixClus                             html  
    NormMixClusK                            html  
    NormMixParam                            html  
    clusterEntropy                          html  
    clusterInertia                          html  
    compareARI                              html  
    compareICL                              html  
    convertLegacyCoseq                      html  
    coseq-package                           html  
    coseq                                   html  
    coseqHelpers                            html  
    coseqResults                            html  
    coseqRun                                html  
    fietz                                   html  
    kmeansProbaPost                         html  
    logclr                                  html  
    matchContTable                          html  
    plot                                    html  
    summary                                 html  
    transformRNAseq                         html  
** building package indices
** installing vignettes
** testing if installed package can be loaded from temporary location
** testing if installed package can be loaded from final location
** testing if installed package keeps a record of temporary installation path

install for x64

* installing *source* package 'coseq' ...
** testing if installed package can be loaded
* MD5 sums
packaged installation of 'coseq' as coseq_1.17.2.zip
* DONE (coseq)
* installing to library 'D:/biocbuild/bbs-3.14-bioc/R/library'
package 'coseq' successfully unpacked and MD5 sums checked