Back to Multiple platform build/check report for BioC 3.14
AB[C]DEFGHIJKLMNOPQRSTUVWXYZ

This page was generated on 2021-10-20 12:05:04 -0400 (Wed, 20 Oct 2021).

BUILD results for coseq on riesling1

To the developers/maintainers of the coseq package:
- Please allow up to 24 hours (and sometimes 48 hours) for your latest push to git@git.bioconductor.org:packages/coseq.git to
reflect on this report. See How and When does the builder pull? When will my changes propagate? here for more information.
- Make sure to use the following settings in order to reproduce any error or warning you see on this page.

raw results

Package 401/2072HostnameOS / ArchINSTALLBUILDCHECKBUILD BIN
coseq 1.17.2  (landing page)
Andrea Rau
Snapshot Date: 2021-10-19 14:50:04 -0400 (Tue, 19 Oct 2021)
git_url: https://git.bioconductor.org/packages/coseq
git_branch: master
git_last_commit: 8fc04ca
git_last_commit_date: 2021-07-21 03:53:14 -0400 (Wed, 21 Jul 2021)
nebbiolo2Linux (Ubuntu 20.04.2 LTS) / x86_64  OK    OK    OK  UNNEEDED, same version is already published
riesling1Windows Server 2019 Standard / x64  OK    OK    OK    OK  UNNEEDED, same version is already published
merida1macOS 10.14.6 Mojave / x86_64  OK    OK    OK    OK  UNNEEDED, same version is already published

Summary

Package: coseq
Version: 1.17.2
Command: chmod a+r coseq -R && D:\biocbuild\bbs-3.14-bioc\R\bin\R.exe CMD build --keep-empty-dirs --no-resave-data coseq
StartedAt: 2021-10-19 20:30:33 -0400 (Tue, 19 Oct 2021)
EndedAt: 2021-10-19 20:35:26 -0400 (Tue, 19 Oct 2021)
EllapsedTime: 292.8 seconds
RetCode: 0
Status:   OK  
PackageFile: coseq_1.17.2.tar.gz
PackageFileSize: 1024 KiB

Command output

##############################################################################
##############################################################################
###
### Running command:
###
###   chmod a+r coseq -R && D:\biocbuild\bbs-3.14-bioc\R\bin\R.exe CMD build --keep-empty-dirs --no-resave-data coseq
###
##############################################################################
##############################################################################


* checking for file 'coseq/DESCRIPTION' ... OK
* preparing 'coseq':
* checking DESCRIPTION meta-information ... OK
* installing the package to build vignettes
* creating vignettes ... OK
* checking for LF line-endings in source and make files and shell scripts
* checking for empty or unneeded directories
* looking to see if a 'data/datalist' file should be added
* building 'coseq_1.17.2.tar.gz'