Back to Multiple platform build/check report for BioC 3.19: simplified long |
|
This page was generated on 2024-03-27 11:36:36 -0400 (Wed, 27 Mar 2024).
Hostname | OS | Arch (*) | R version | Installed pkgs |
---|---|---|---|---|
nebbiolo1 | Linux (Ubuntu 22.04.3 LTS) | x86_64 | R Under development (unstable) (2024-03-18 r86148) -- "Unsuffered Consequences" | 4698 |
palomino3 | Windows Server 2022 Datacenter | x64 | R Under development (unstable) (2024-03-16 r86144 ucrt) -- "Unsuffered Consequences" | 4436 |
lconway | macOS 12.7.1 Monterey | x86_64 | R Under development (unstable) (2024-03-18 r86148) -- "Unsuffered Consequences" | 4461 |
kunpeng2 | Linux (openEuler 22.03 LTS-SP1) | aarch64 | R Under development (unstable) (2024-03-19 r86153) -- "Unsuffered Consequences" | 4376 |
Click on any hostname to see more info about the system (e.g. compilers) (*) as reported by 'uname -p', except on Windows and Mac OS X |
Package 439/2264 | Hostname | OS / Arch | INSTALL | BUILD | CHECK | BUILD BIN | ||||||||
corral 1.13.0 (landing page) Lauren Hsu
| nebbiolo1 | Linux (Ubuntu 22.04.3 LTS) / x86_64 | OK | OK | OK | |||||||||
palomino3 | Windows Server 2022 Datacenter / x64 | OK | OK | OK | OK | |||||||||
lconway | macOS 12.7.1 Monterey / x86_64 | OK | OK | OK | OK | |||||||||
kunpeng2 | Linux (openEuler 22.03 LTS-SP1) / aarch64 | OK | OK | OK | ||||||||||
To the developers/maintainers of the corral package: - Allow up to 24 hours (and sometimes 48 hours) for your latest push to git@git.bioconductor.org:packages/corral.git to reflect on this report. See Troubleshooting Build Report for more information. - Use the following Renviron settings to reproduce errors and warnings. - If 'R CMD check' started to fail recently on the Linux builder(s) over a missing dependency, add the missing dependency to 'Suggests:' in your DESCRIPTION file. See Renviron.bioc for more information. |
Package: corral |
Version: 1.13.0 |
Command: /home/biocbuild/bbs-3.19-bioc/R/bin/R CMD check --install=check:corral.install-out.txt --library=/home/biocbuild/bbs-3.19-bioc/R/site-library --timings corral_1.13.0.tar.gz |
StartedAt: 2024-03-26 21:23:05 -0400 (Tue, 26 Mar 2024) |
EndedAt: 2024-03-26 21:41:55 -0400 (Tue, 26 Mar 2024) |
EllapsedTime: 1130.6 seconds |
RetCode: 0 |
Status: OK |
CheckDir: corral.Rcheck |
Warnings: 0 |
############################################################################## ############################################################################## ### ### Running command: ### ### /home/biocbuild/bbs-3.19-bioc/R/bin/R CMD check --install=check:corral.install-out.txt --library=/home/biocbuild/bbs-3.19-bioc/R/site-library --timings corral_1.13.0.tar.gz ### ############################################################################## ############################################################################## * using log directory ‘/home/biocbuild/bbs-3.19-bioc/meat/corral.Rcheck’ * using R Under development (unstable) (2024-03-18 r86148) * using platform: x86_64-pc-linux-gnu * R was compiled by gcc (Ubuntu 11.4.0-1ubuntu1~22.04) 11.4.0 GNU Fortran (Ubuntu 11.4.0-1ubuntu1~22.04) 11.4.0 * running under: Ubuntu 22.04.4 LTS * using session charset: UTF-8 * checking for file ‘corral/DESCRIPTION’ ... OK * this is package ‘corral’ version ‘1.13.0’ * package encoding: UTF-8 * checking package namespace information ... OK * checking package dependencies ... OK * checking if this is a source package ... OK * checking if there is a namespace ... OK * checking for hidden files and directories ... OK * checking for portable file names ... OK * checking for sufficient/correct file permissions ... OK * checking whether package ‘corral’ can be installed ... OK * checking installed package size ... OK * checking package directory ... OK * checking ‘build’ directory ... OK * checking DESCRIPTION meta-information ... OK * checking top-level files ... OK * checking for left-over files ... OK * checking index information ... OK * checking package subdirectories ... OK * checking code files for non-ASCII characters ... OK * checking R files for syntax errors ... OK * checking whether the package can be loaded ... OK * checking whether the package can be loaded with stated dependencies ... OK * checking whether the package can be unloaded cleanly ... OK * checking whether the namespace can be loaded with stated dependencies ... OK * checking whether the namespace can be unloaded cleanly ... OK * checking loading without being on the library search path ... OK * checking dependencies in R code ... NOTE Unexported object imported by a ':::' call: ‘ggthemes:::check_pal_n’ See the note in ?`:::` about the use of this operator. * checking S3 generic/method consistency ... OK * checking replacement functions ... OK * checking foreign function calls ... OK * checking R code for possible problems ... NOTE biplot_corral: no visible binding for global variable ‘Name’ plot_embedding: no visible binding for global variable ‘Xdim’ plot_embedding: no visible binding for global variable ‘Ydim’ scal_var: no visible binding for global variable ‘PC_ind’ scal_var: no visible binding for global variable ‘sv’ scal_var: no visible binding for global variable ‘Batch’ Undefined global functions or variables: Batch Name PC_ind Xdim Ydim sv * checking Rd files ... NOTE prepare_Rd: corral_preproc.Rd:41-43: Dropping empty section \details * checking Rd metadata ... OK * checking Rd cross-references ... OK * checking for missing documentation entries ... OK * checking for code/documentation mismatches ... OK * checking Rd \usage sections ... OK * checking Rd contents ... OK * checking for unstated dependencies in examples ... OK * checking files in ‘vignettes’ ... OK * checking examples ... OK Examples with CPU (user + system) or elapsed time > 5s user system elapsed biplot_corral 63.634 6.140 69.924 add_embeddings2scelist 16.684 1.433 18.714 corralm 12.685 1.911 14.816 corral 12.065 1.653 13.981 plot_embedding_sce 6.516 0.860 7.482 sce2matlist 6.200 0.872 7.177 * checking for unstated dependencies in ‘tests’ ... OK * checking tests ... Running ‘testthat.R’ OK * checking for unstated dependencies in vignettes ... OK * checking package vignettes ... OK * checking re-building of vignette outputs ... OK * checking PDF version of manual ... OK * DONE Status: 3 NOTEs See ‘/home/biocbuild/bbs-3.19-bioc/meat/corral.Rcheck/00check.log’ for details.
corral.Rcheck/00install.out
############################################################################## ############################################################################## ### ### Running command: ### ### /home/biocbuild/bbs-3.19-bioc/R/bin/R CMD INSTALL corral ### ############################################################################## ############################################################################## * installing to library ‘/home/biocbuild/bbs-3.19-bioc/R/site-library’ * installing *source* package ‘corral’ ... ** using staged installation ** R ** inst ** byte-compile and prepare package for lazy loading ** help *** installing help indices ** building package indices ** installing vignettes ** testing if installed package can be loaded from temporary location ** testing if installed package can be loaded from final location ** testing if installed package keeps a record of temporary installation path * DONE (corral)
corral.Rcheck/tests/testthat.Rout
R Under development (unstable) (2024-03-18 r86148) -- "Unsuffered Consequences" Copyright (C) 2024 The R Foundation for Statistical Computing Platform: x86_64-pc-linux-gnu R is free software and comes with ABSOLUTELY NO WARRANTY. You are welcome to redistribute it under certain conditions. Type 'license()' or 'licence()' for distribution details. R is a collaborative project with many contributors. Type 'contributors()' for more information and 'citation()' on how to cite R or R packages in publications. Type 'demo()' for some demos, 'help()' for on-line help, or 'help.start()' for an HTML browser interface to help. Type 'q()' to quit R. > > proc.time() user system elapsed 0.164 0.029 0.181
corral.Rcheck/corral-Ex.timings
name | user | system | elapsed | |
add_embeddings2scelist | 16.684 | 1.433 | 18.714 | |
all_are | 0.001 | 0.000 | 0.001 | |
biplot_corral | 63.634 | 6.140 | 69.924 | |
compsvd | 0.003 | 0.004 | 0.007 | |
corral | 12.065 | 1.653 | 13.981 | |
corral_preproc | 0.009 | 0.000 | 0.009 | |
corralm | 12.685 | 1.911 | 14.816 | |
earthmover_dist | 0.017 | 0.004 | 0.021 | |
get_pct_var_exp_svd | 0.001 | 0.000 | 0.001 | |
get_weights | 0.001 | 0.000 | 0.001 | |
list2mat | 0.002 | 0.000 | 0.001 | |
na2zero | 0.02 | 0.02 | 0.04 | |
pairwise_rv | 0.002 | 0.000 | 0.002 | |
plot_embedding | 0.610 | 0.128 | 0.737 | |
plot_embedding_sce | 6.516 | 0.860 | 7.482 | |
rv | 0 | 0 | 0 | |
scal_var | 0.192 | 0.001 | 0.193 | |
scal_var_mat | 0.015 | 0.000 | 0.016 | |
sce2matlist | 6.200 | 0.872 | 7.177 | |
trim_matdist | 0.052 | 0.000 | 0.052 | |
var_stabilize | 0.001 | 0.000 | 0.000 | |