Back to Multiple platform build/check report for BioC 3.15
AB[C]DEFGHIJKLMNOPQRSTUVWXYZ

This page was generated on 2022-01-24 11:07:05 -0500 (Mon, 24 Jan 2022).

HostnameOSArch (*)R versionInstalled pkgs
nebbiolo1Linux (Ubuntu 20.04.4 LTS)x86_64R Under development (unstable) (2022-01-05 r81451) -- "Unsuffered Consequences" 4163
riesling1Windows Server 2019 Standardx64R Under development (unstable) (2021-11-21 r81221) -- "Unsuffered Consequences" 4058
palomino3Windows Server 2022 Datacenterx64R Under development (unstable) (2021-12-21 r81400 ucrt) -- "Unsuffered Consequences" 4000
merida1macOS 10.14.6 Mojavex86_64R Under development (unstable) (2022-01-05 r81451) -- "Unsuffered Consequences" 4117
Click on any hostname to see more info about the system (e.g. compilers)      (*) as reported by 'uname -p', except on Windows and Mac OS X

INSTALL results for copynumber on riesling1


To the developers/maintainers of the copynumber package:
- Please allow up to 24 hours (and sometimes 48 hours) for your latest push to git@git.bioconductor.org:packages/copynumber.git to
reflect on this report. See How and When does the builder pull? When will my changes propagate? here for more information.
- Make sure to use the following settings in order to reproduce any error or warning you see on this page.

raw results

Package 395/2075HostnameOS / ArchINSTALLBUILDCHECKBUILD BIN
copynumber 1.35.0  (landing page)
Gro Nilsen
Snapshot Date: 2022-01-23 13:55:15 -0500 (Sun, 23 Jan 2022)
git_url: https://git.bioconductor.org/packages/copynumber
git_branch: master
git_last_commit: 45bfbec
git_last_commit_date: 2021-10-26 12:07:45 -0500 (Tue, 26 Oct 2021)
nebbiolo1Linux (Ubuntu 20.04.4 LTS) / x86_64  OK    OK    OK  UNNEEDED, same version is already published
riesling1Windows Server 2019 Standard / x64  OK    ERROR  skippedskipped
palomino3Windows Server 2022 Datacenter / x64  OK    ERROR  skippedskipped
merida1macOS 10.14.6 Mojave / x86_64  OK    OK    OK    OK  UNNEEDED, same version is already published

Summary

Package: copynumber
Version: 1.35.0
Command: D:\biocbuild\bbs-3.15-bioc\R\bin\R.exe CMD INSTALL copynumber
StartedAt: 2022-01-23 15:38:51 -0500 (Sun, 23 Jan 2022)
EndedAt: 2022-01-23 15:39:53 -0500 (Sun, 23 Jan 2022)
EllapsedTime: 62.2 seconds
RetCode: 0
Status:   OK  

Command output

##############################################################################
##############################################################################
###
### Running command:
###
###   D:\biocbuild\bbs-3.15-bioc\R\bin\R.exe CMD INSTALL copynumber
###
##############################################################################
##############################################################################


* installing to library 'D:/biocbuild/bbs-3.15-bioc/R/library'
* installing *source* package 'copynumber' ...
** using staged installation
** R
** data
*** moving datasets to lazyload DB
** inst
** byte-compile and prepare package for lazy loading
** help
*** installing help indices
  converting help for package 'copynumber'
    finding HTML links ... done
    SNPdata                                 html  
    aspcf                                   html  
    callAberrations                         html  
    getGRangesFormat                        html  
    imputeMissing                           html  
    interpolate.pcf                         html  
    lymphoma                                html  
    micma                                   html  
    multipcf                                html  
    pcf                                     html  
    pcfPlain                                html  
    plotAberration                          html  
    plotAllele                              html  
    plotChrom                               html  
    plotCircle                              html  
    plotFreq                                html  
    plotGamma                               html  
    plotGenome                              html  
    plotHeatmap                             html  
    plotSample                              html  
    selectSegments                          html  
    subsetData                              html  
    subsetSegments                          html  
    winsorize                               html  
** building package indices
** installing vignettes
** testing if installed package can be loaded from temporary location
** testing if installed package can be loaded from final location
** testing if installed package keeps a record of temporary installation path
* DONE (copynumber)
Making 'packages.html' ...Warning in packageDescription(i, lib.loc = lib, fields = "Title", encoding = "UTF-8") :
  DESCRIPTION file of package 'SeqArray' is missing or broken
 done