Back to Multiple platform build/check report for BioC 3.15
AB[C]DEFGHIJKLMNOPQRSTUVWXYZ

This page was generated on 2022-01-27 11:05:31 -0500 (Thu, 27 Jan 2022).

HostnameOSArch (*)R versionInstalled pkgs
nebbiolo1Linux (Ubuntu 20.04.4 LTS)x86_64R Under development (unstable) (2022-01-05 r81451) -- "Unsuffered Consequences" 4167
riesling1Windows Server 2019 Standardx64R Under development (unstable) (2021-11-21 r81221) -- "Unsuffered Consequences" 4062
palomino3Windows Server 2022 Datacenterx64R Under development (unstable) (2021-12-21 r81400 ucrt) -- "Unsuffered Consequences" 4004
merida1macOS 10.14.6 Mojavex86_64R Under development (unstable) (2022-01-05 r81451) -- "Unsuffered Consequences" 4121
Click on any hostname to see more info about the system (e.g. compilers)      (*) as reported by 'uname -p', except on Windows and Mac OS X

CHECK results for copynumber on nebbiolo1


To the developers/maintainers of the copynumber package:
- Please allow up to 24 hours (and sometimes 48 hours) for your latest push to git@git.bioconductor.org:packages/copynumber.git to
reflect on this report. See How and When does the builder pull? When will my changes propagate? here for more information.
- Make sure to use the following settings in order to reproduce any error or warning you see on this page.

raw results

Package 395/2077HostnameOS / ArchINSTALLBUILDCHECKBUILD BIN
copynumber 1.35.0  (landing page)
Gro Nilsen
Snapshot Date: 2022-01-26 13:55:18 -0500 (Wed, 26 Jan 2022)
git_url: https://git.bioconductor.org/packages/copynumber
git_branch: master
git_last_commit: 45bfbec
git_last_commit_date: 2021-10-26 12:07:45 -0500 (Tue, 26 Oct 2021)
nebbiolo1Linux (Ubuntu 20.04.4 LTS) / x86_64  OK    OK    OK  UNNEEDED, same version is already published
riesling1Windows Server 2019 Standard / x64  OK    ERROR  skippedskipped
palomino3Windows Server 2022 Datacenter / x64  OK    ERROR  skippedskipped
merida1macOS 10.14.6 Mojave / x86_64  OK    OK    OK    OK  UNNEEDED, same version is already published

Summary

Package: copynumber
Version: 1.35.0
Command: /home/biocbuild/bbs-3.15-bioc/R/bin/R CMD check --install=check:copynumber.install-out.txt --library=/home/biocbuild/bbs-3.15-bioc/R/library --no-vignettes --timings copynumber_1.35.0.tar.gz
StartedAt: 2022-01-26 18:48:14 -0500 (Wed, 26 Jan 2022)
EndedAt: 2022-01-26 18:49:55 -0500 (Wed, 26 Jan 2022)
EllapsedTime: 101.0 seconds
RetCode: 0
Status:   OK  
CheckDir: copynumber.Rcheck
Warnings: 0

Command output

##############################################################################
##############################################################################
###
### Running command:
###
###   /home/biocbuild/bbs-3.15-bioc/R/bin/R CMD check --install=check:copynumber.install-out.txt --library=/home/biocbuild/bbs-3.15-bioc/R/library --no-vignettes --timings copynumber_1.35.0.tar.gz
###
##############################################################################
##############################################################################


* using log directory ‘/home/biocbuild/bbs-3.15-bioc/meat/copynumber.Rcheck’
* using R Under development (unstable) (2022-01-05 r81451)
* using platform: x86_64-pc-linux-gnu (64-bit)
* using session charset: UTF-8
* using option ‘--no-vignettes’
* checking for file ‘copynumber/DESCRIPTION’ ... OK
* this is package ‘copynumber’ version ‘1.35.0’
* checking package namespace information ... OK
* checking package dependencies ... OK
* checking if this is a source package ... OK
* checking if there is a namespace ... OK
* checking for hidden files and directories ... OK
* checking for portable file names ... OK
* checking for sufficient/correct file permissions ... OK
* checking whether package ‘copynumber’ can be installed ... OK
* checking installed package size ... OK
* checking package directory ... OK
* checking ‘build’ directory ... OK
* checking DESCRIPTION meta-information ... NOTE
Malformed Title field: should not end in a period.
* checking top-level files ... OK
* checking for left-over files ... OK
* checking index information ... OK
* checking package subdirectories ... OK
* checking R files for non-ASCII characters ... OK
* checking R files for syntax errors ... OK
* checking whether the package can be loaded ... OK
* checking whether the package can be loaded with stated dependencies ... OK
* checking whether the package can be unloaded cleanly ... OK
* checking whether the namespace can be loaded with stated dependencies ... OK
* checking whether the namespace can be unloaded cleanly ... OK
* checking dependencies in R code ... NOTE
Package in Depends field not imported from: ‘BiocGenerics’
  These packages need to be imported from (in the NAMESPACE file)
  for when this namespace is loaded but not attached.
* checking S3 generic/method consistency ... OK
* checking replacement functions ... OK
* checking foreign function calls ... OK
* checking R code for possible problems ... NOTE
addArmlines: no visible global function definition for ‘modifyList’
addArmlines: no visible global function definition for ‘abline’
addChromlines: no visible global function definition for ‘modifyList’
addChromlines: no visible global function definition for ‘abline’
addChromlines: no visible global function definition for ‘mtext’
addToFreqPlot: no visible global function definition for ‘abline’
addToFreqPlot: no visible global function definition for ‘axis’
addToFreqPlot: no visible global function definition for ‘title’
addToPlot: no visible global function definition for ‘axis’
addToPlot: no visible global function definition for ‘mtext’
addToPlot: no visible global function definition for ‘title’
addToPlot: no visible global function definition for ‘abline’
aspcf: no visible global function definition for ‘read.table’
aspcf: no visible global function definition for ‘write.table’
c.lines: no visible global function definition for ‘lines’
chromPattern: no visible global function definition for ‘rect’
chromPattern: no visible global function definition for ‘par’
chromosomeAberration: no visible global function definition for
  ‘dev.cur’
chromosomeAberration: no visible global function definition for
  ‘dev.new’
chromosomeAberration: no visible global function definition for ‘par’
chromosomeAberration: no visible global function definition for ‘rect’
chromosomeAberration: no visible global function definition for ‘title’
chromosomeAberration: no visible global function definition for ‘axis’
chromosomeAberration: no visible global function definition for
  ‘abline’
chromosomeAberration: no visible global function definition for
  ‘devAskNewPage’
chromosomeFreq: no visible global function definition for ‘dev.cur’
chromosomeFreq: no visible global function definition for ‘dev.new’
chromosomeFreq: no visible global function definition for ‘par’
chromosomeFreq: no visible global function definition for ‘rect’
chromosomeFreq: no visible global function definition for ‘abline’
chromosomeFreq: no visible global function definition for ‘title’
chromosomeFreq: no visible global function definition for
  ‘devAskNewPage’
chromosomeHeat: no visible global function definition for ‘dev.cur’
chromosomeHeat: no visible global function definition for ‘dev.new’
chromosomeHeat: no visible global function definition for ‘par’
chromosomeHeat: no visible global function definition for ‘rect’
chromosomeHeat: no visible global function definition for ‘title’
chromosomeHeat: no visible global function definition for ‘axis’
chromosomeHeat: no visible global function definition for ‘abline’
chromosomeHeat: no visible global function definition for
  ‘devAskNewPage’
colorSetup: no visible global function definition for
  ‘colorRampPalette’
connectSeg: no visible global function definition for ‘segments’
draw.roundEdge: no visible global function definition for ‘polygon’
drawStalk: no visible global function definition for ‘polygon’
filterMarkS4: no visible global function definition for ‘quantile’
genomeAberration: no visible global function definition for ‘dev.cur’
genomeAberration: no visible global function definition for ‘dev.new’
genomeAberration: no visible global function definition for ‘par’
genomeAberration: no visible global function definition for ‘rect’
genomeAberration: no visible global function definition for ‘title’
genomeAberration: no visible global function definition for ‘axis’
genomeAberration: no visible global function definition for ‘abline’
genomeAberration: no visible global function definition for
  ‘devAskNewPage’
genomeFreq: no visible global function definition for ‘dev.cur’
genomeFreq: no visible global function definition for ‘dev.new’
genomeFreq: no visible global function definition for ‘par’
genomeFreq: no visible global function definition for ‘title’
genomeFreq: no visible global function definition for ‘rect’
genomeFreq: no visible global function definition for ‘abline’
genomeFreq: no visible global function definition for ‘devAskNewPage’
genomeHeat: no visible global function definition for ‘dev.cur’
genomeHeat: no visible global function definition for ‘dev.new’
genomeHeat: no visible global function definition for ‘par’
genomeHeat: no visible global function definition for ‘rect’
genomeHeat: no visible global function definition for ‘title’
genomeHeat: no visible global function definition for ‘axis’
genomeHeat: no visible global function definition for ‘abline’
genomeHeat: no visible global function definition for ‘devAskNewPage’
getFreqPlotParameters: no visible global function definition for
  ‘modifyList’
getHeatParameters: no visible global function definition for
  ‘modifyList’
getMad: no visible global function definition for ‘mad’
getPlotParameters: no visible global function definition for ‘rainbow’
getPlotParameters: no visible global function definition for
  ‘modifyList’
madWins: no visible global function definition for ‘mad’
medianFilter: no visible global function definition for ‘runmed’
multipcf: no visible global function definition for ‘read.table’
multipcf: no visible global function definition for ‘write.table’
pcf: no visible global function definition for ‘read.table’
pcf: no visible global function definition for ‘write.table’
pcfWins: no visible global function definition for ‘mad’
plotAllele: no visible global function definition for ‘modifyList’
plotAllele: no visible global function definition for ‘pdf’
plotAllele: no visible global function definition for ‘dev.cur’
plotAllele: no visible global function definition for ‘dev.new’
plotAllele: no visible global function definition for ‘devAskNewPage’
plotAllele: no visible global function definition for ‘quantile’
plotAllele: no visible global function definition for ‘par’
plotAllele: no visible global function definition for ‘legend’
plotAllele: no visible global function definition for ‘title’
plotAllele: no visible global function definition for ‘graphics.off’
plotChrom: no visible global function definition for ‘pdf’
plotChrom: no visible global function definition for ‘dev.cur’
plotChrom: no visible global function definition for ‘dev.new’
plotChrom: no visible global function definition for ‘devAskNewPage’
plotChrom: no visible global function definition for ‘quantile’
plotChrom: no visible global function definition for ‘par’
plotChrom: no visible global function definition for ‘legend’
plotChrom: no visible global function definition for ‘title’
plotChrom: no visible global function definition for ‘graphics.off’
plotCircle: no visible global function definition for ‘par’
plotCircle: no visible global function definition for ‘text’
plotCircle: no visible global function definition for ‘xspline’
plotCircle: no visible global function definition for ‘lines’
plotGamma: no visible global function definition for ‘quantile’
plotGamma: no visible global function definition for ‘col2rgb’
plotGamma: no visible global function definition for ‘rgb’
plotGamma: no visible global function definition for ‘dev.cur’
plotGamma: no visible global function definition for ‘dev.new’
plotGamma: no visible global function definition for ‘par’
plotGamma: no visible global function definition for ‘axis’
plotGamma: no visible global function definition for ‘box’
plotGamma: no visible global function definition for ‘legend’
plotGamma: no visible global function definition for ‘barplot’
plotGamma: no visible global function definition for ‘abline’
plotGamma: no visible global function definition for ‘mtext’
plotGamma: no visible global function definition for ‘points’
plotGenome: no visible global function definition for ‘quantile’
plotGenome: no visible global function definition for ‘pdf’
plotGenome: no visible global function definition for ‘dev.cur’
plotGenome: no visible global function definition for ‘dev.new’
plotGenome: no visible global function definition for ‘par’
plotGenome: no visible global function definition for ‘legend’
plotGenome: no visible global function definition for ‘title’
plotGenome: no visible global function definition for ‘devAskNewPage’
plotGenome: no visible global function definition for ‘graphics.off’
plotIdeogram: no visible global function definition for ‘rect’
plotIdeogram: no visible global function definition for ‘mtext’
plotObs: no visible global function definition for ‘par’
plotSample: no visible global function definition for ‘pdf’
plotSample: no visible global function definition for ‘dev.cur’
plotSample: no visible global function definition for ‘dev.new’
plotSample: no visible global function definition for ‘devAskNewPage’
plotSample: no visible global function definition for ‘quantile’
plotSample: no visible global function definition for ‘par’
plotSample: no visible global function definition for ‘legend’
plotSample: no visible global function definition for ‘title’
plotSample: no visible global function definition for ‘graphics.off’
plotSegments: no visible global function definition for ‘par’
sawMarkM: no visible global function definition for ‘quantile’
subset.abe: no visible binding for global variable ‘quantile’
subsetData: no visible global function definition for ‘read.table’
subsetSegments: no visible global function definition for ‘read.table’
winsorize: no visible global function definition for ‘read.table’
winsorize: no visible global function definition for ‘write.table’
Undefined global functions or variables:
  abline axis barplot box col2rgb colorRampPalette dev.cur dev.new
  devAskNewPage graphics.off legend lines mad modifyList mtext par pdf
  points polygon quantile rainbow read.table rect rgb runmed segments
  text title write.table xspline
Consider adding
  importFrom("grDevices", "col2rgb", "colorRampPalette", "dev.cur",
             "dev.new", "devAskNewPage", "graphics.off", "pdf",
             "rainbow", "rgb")
  importFrom("graphics", "abline", "axis", "barplot", "box", "legend",
             "lines", "mtext", "par", "points", "polygon", "rect",
             "segments", "text", "title", "xspline")
  importFrom("stats", "mad", "quantile", "runmed")
  importFrom("utils", "modifyList", "read.table", "write.table")
to your NAMESPACE file.
* checking Rd files ... OK
* checking Rd metadata ... OK
* checking Rd cross-references ... OK
* checking for missing documentation entries ... OK
* checking for code/documentation mismatches ... OK
* checking Rd \usage sections ... OK
* checking Rd contents ... OK
* checking for unstated dependencies in examples ... OK
* checking contents of ‘data’ directory ... OK
* checking data for non-ASCII characters ... OK
* checking LazyData ... OK
* checking data for ASCII and uncompressed saves ... OK
* checking R/sysdata.rda ... OK
* checking files in ‘vignettes’ ... OK
* checking examples ... OK
* checking for unstated dependencies in vignettes ... OK
* checking package vignettes in ‘inst/doc’ ... OK
* checking running R code from vignettes ... SKIPPED
* checking re-building of vignette outputs ... SKIPPED
* checking PDF version of manual ... OK
* DONE

Status: 3 NOTEs
See
  ‘/home/biocbuild/bbs-3.15-bioc/meat/copynumber.Rcheck/00check.log’
for details.



Installation output

copynumber.Rcheck/00install.out

##############################################################################
##############################################################################
###
### Running command:
###
###   /home/biocbuild/bbs-3.15-bioc/R/bin/R CMD INSTALL copynumber
###
##############################################################################
##############################################################################


* installing to library ‘/home/biocbuild/bbs-3.15-bioc/R/library’
* installing *source* package ‘copynumber’ ...
** using staged installation
** R
** data
*** moving datasets to lazyload DB
** inst
** byte-compile and prepare package for lazy loading
** help
*** installing help indices
** building package indices
** installing vignettes
** testing if installed package can be loaded from temporary location
** testing if installed package can be loaded from final location
** testing if installed package keeps a record of temporary installation path
* DONE (copynumber)

Tests output


Example timings

copynumber.Rcheck/copynumber-Ex.timings

nameusersystemelapsed
SNPdata0.0000.0020.002
aspcf1.1540.0431.198
callAberrations1.7700.0411.812
getGRangesFormat1.9190.0171.937
imputeMissing1.1980.0051.202
interpolate.pcf0.2550.0000.255
lymphoma0.0010.0000.001
micma0.0010.0000.001
multipcf0.4250.0070.433
pcf0.4310.0010.431
pcfPlain0.3640.0000.364
plotAberration1.7850.0151.801
plotAllele2.0060.0332.039
plotChrom1.2950.0161.311
plotCircle4.3980.3674.766
plotFreq2.1640.0082.172
plotGamma1.2110.0041.215
plotGenome1.8590.0271.886
plotHeatmap2.2100.0112.222
plotSample1.7900.0201.811
selectSegments0.5550.0080.564
subsetData0.0050.0000.005
subsetSegments1.7320.0161.748
winsorize0.2120.0080.220