Index of /checkResults/devel/bioc-LATEST/contiBAIT/raw-results/lconway
Name
Last modified
Size
Description
Parent Directory
-
buildsrc-out.txt
29-Mar-2024 00:39
917
buildsrc-summary.dcf
29-Mar-2024 00:39
346
install-out.txt
29-Mar-2024 00:39
703
install-summary.dcf
29-Mar-2024 00:39
275