Back to Multiple platform build/check report for BioC 3.17:   simplified   long
AB[C]DEFGHIJKLMNOPQRSTUVWXYZ

This page was generated on 2023-02-04 11:05:25 -0500 (Sat, 04 Feb 2023).

HostnameOSArch (*)R versionInstalled pkgs
nebbiolo1Linux (Ubuntu 22.04.1 LTS)x86_64R Under development (unstable) (2023-01-10 r83596) -- "Unsuffered Consequences" 4483
palomino3Windows Server 2022 Datacenterx64R Under development (unstable) (2023-01-10 r83596 ucrt) -- "Unsuffered Consequences" 4249
merida1macOS 10.14.6 Mojavex86_64R Under development (unstable) (2023-01-10 r83596) -- "Unsuffered Consequences" 4272
Click on any hostname to see more info about the system (e.g. compilers)      (*) as reported by 'uname -p', except on Windows and Mac OS X

BUILD BIN results for consensusOV on palomino3


To the developers/maintainers of the consensusOV package:
- Please allow up to 24 hours (and sometimes 48 hours) for your latest push to git@git.bioconductor.org:packages/consensusOV.git to
reflect on this report. See How and When does the builder pull? When will my changes propagate? for more information.
- Make sure to use the following settings in order to reproduce any error or warning you see on this page.

raw results

Package 398/2164HostnameOS / ArchINSTALLBUILDCHECKBUILD BIN
consensusOV 1.21.0  (landing page)
Benjamin Haibe-Kains
Snapshot Date: 2023-02-03 14:00:22 -0500 (Fri, 03 Feb 2023)
git_url: https://git.bioconductor.org/packages/consensusOV
git_branch: master
git_last_commit: fe97b4b
git_last_commit_date: 2022-11-01 11:15:57 -0500 (Tue, 01 Nov 2022)
nebbiolo1Linux (Ubuntu 22.04.1 LTS) / x86_64  OK    OK    OK  UNNEEDED, same version is already published
palomino3Windows Server 2022 Datacenter / x64  OK    OK    OK    OK  UNNEEDED, same version is already published
merida1macOS 10.14.6 Mojave / x86_64  OK    OK    OK    OK  UNNEEDED, same version is already published

Summary

Package: consensusOV
Version: 1.21.0
Command: rm -rf consensusOV.buildbin-libdir && mkdir consensusOV.buildbin-libdir && F:\biocbuild\bbs-3.17-bioc\R\bin\R.exe CMD INSTALL --build --library=consensusOV.buildbin-libdir consensusOV_1.21.0.tar.gz
StartedAt: 2023-02-04 08:36:08 -0500 (Sat, 04 Feb 2023)
EndedAt: 2023-02-04 08:37:22 -0500 (Sat, 04 Feb 2023)
EllapsedTime: 73.8 seconds
RetCode: 0
Status:   OK  
PackageFile: consensusOV_1.21.0.zip
PackageFileSize: 4.484 MiB

Command output

##############################################################################
##############################################################################
###
### Running command:
###
###   rm -rf consensusOV.buildbin-libdir && mkdir consensusOV.buildbin-libdir && F:\biocbuild\bbs-3.17-bioc\R\bin\R.exe CMD INSTALL --build --library=consensusOV.buildbin-libdir consensusOV_1.21.0.tar.gz
###
##############################################################################
##############################################################################


* installing *source* package 'consensusOV' ...
** using staged installation
** R
** data
*** moving datasets to lazyload DB
** inst
** byte-compile and prepare package for lazy loading
** help
*** installing help indices
** building package indices
** installing vignettes
** testing if installed package can be loaded from temporary location
** testing if installed package can be loaded from final location
** testing if installed package keeps a record of temporary installation path
* MD5 sums
packaged installation of 'consensusOV' as consensusOV_1.21.0.zip
* DONE (consensusOV)